BEGIN:VCALENDAR
VERSION:2.0
PRODID:-//DKG (Deutsch-Kanadische Gesellschaft) - ECPv6.15.20//NONSGML v1.0//EN
CALSCALE:GREGORIAN
METHOD:PUBLISH
X-ORIGINAL-URL:https://www.dkg-online.de
X-WR-CALDESC:Veranstaltungen für DKG (Deutsch-Kanadische Gesellschaft)
REFRESH-INTERVAL;VALUE=DURATION:PT1H
X-Robots-Tag:noindex
X-PUBLISHED-TTL:PT1H
BEGIN:VTIMEZONE
TZID:Europe/Berlin
BEGIN:DAYLIGHT
TZOFFSETFROM:+0100
TZOFFSETTO:+0200
TZNAME:CEST
DTSTART:20200329T010000
END:DAYLIGHT
BEGIN:STANDARD
TZOFFSETFROM:+0200
TZOFFSETTO:+0100
TZNAME:CET
DTSTART:20201025T010000
END:STANDARD
BEGIN:DAYLIGHT
TZOFFSETFROM:+0100
TZOFFSETTO:+0200
TZNAME:CEST
DTSTART:20210328T010000
END:DAYLIGHT
BEGIN:STANDARD
TZOFFSETFROM:+0200
TZOFFSETTO:+0100
TZNAME:CET
DTSTART:20211031T010000
END:STANDARD
BEGIN:DAYLIGHT
TZOFFSETFROM:+0100
TZOFFSETTO:+0200
TZNAME:CEST
DTSTART:20220327T010000
END:DAYLIGHT
BEGIN:STANDARD
TZOFFSETFROM:+0200
TZOFFSETTO:+0100
TZNAME:CET
DTSTART:20221030T010000
END:STANDARD
END:VTIMEZONE
BEGIN:VEVENT
DTSTART;TZID=Europe/Berlin:20210129T193000
DTEND;TZID=Europe/Berlin:20210129T223000
DTSTAMP:20260425T200303
CREATED:20201228T152708Z
LAST-MODIFIED:20201228T152708Z
UID:3523-1611948600-1611959400@www.dkg-online.de
SUMMARY:Virtual Canadian Pub Night - Edition 1/2021
DESCRIPTION:  \n  \n \nDear friends\, \non behalf of the German-Canadian Association (DKG) and the Canadian Club of Belgium (CCB) we thank you so much for joining our „Virtual Canadian Pub Night Series“. \nVirtual Canadian Pub Night – Edition 1/2021 \nWe will meet traditionally at 7:30 pm CET (Bruxelles\, Berlin) – or 2:30 pm AST (Halifax)\, 1:30 pm EST (Montréal\, Toronto) and 11:30 am MST (Calgary) 10:30 am PST (Vancouver). \nIf you would like to join again\, please register via this link. \nAfter the approval of your registration\, you will receive the login details. You will usually receive the confirmation within 24 hours. \nIf you have some ideas (for upcoming events) just let us know and send us an e-mail or provide us with your ideas in the comments and question field in the registration form. \nNow it is up to you to save your seat (but I think we need no towel for the reservation\, eh!?). And if you miss your families or best friends in Canada\, please share the registration link with them. Because they are – of course – heartily welcome! \nWe are looking forward to seeing you – latest on Friday\, January 29\, 2021 at 7:30 pm CEST \nCheers\, \nMartin Gutsch\nVorstand / Member of Executive Board
URL:https://www.dkg-online.de/event/virtual-canadian-pub-night-edition-1-2021/
LOCATION:Zuhause
END:VEVENT
END:VCALENDAR