BEGIN:VCALENDAR
VERSION:2.0
PRODID:-//DKG (Deutsch-Kanadische Gesellschaft) - ECPv6.15.20//NONSGML v1.0//EN
CALSCALE:GREGORIAN
METHOD:PUBLISH
X-WR-CALNAME:DKG (Deutsch-Kanadische Gesellschaft)
X-ORIGINAL-URL:https://www.dkg-online.de
X-WR-CALDESC:Veranstaltungen für DKG (Deutsch-Kanadische Gesellschaft)
REFRESH-INTERVAL;VALUE=DURATION:PT1H
X-Robots-Tag:noindex
X-PUBLISHED-TTL:PT1H
BEGIN:VTIMEZONE
TZID:Europe/Berlin
BEGIN:DAYLIGHT
TZOFFSETFROM:+0100
TZOFFSETTO:+0200
TZNAME:CEST
DTSTART:20200329T010000
END:DAYLIGHT
BEGIN:STANDARD
TZOFFSETFROM:+0200
TZOFFSETTO:+0100
TZNAME:CET
DTSTART:20201025T010000
END:STANDARD
BEGIN:DAYLIGHT
TZOFFSETFROM:+0100
TZOFFSETTO:+0200
TZNAME:CEST
DTSTART:20210328T010000
END:DAYLIGHT
BEGIN:STANDARD
TZOFFSETFROM:+0200
TZOFFSETTO:+0100
TZNAME:CET
DTSTART:20211031T010000
END:STANDARD
BEGIN:DAYLIGHT
TZOFFSETFROM:+0100
TZOFFSETTO:+0200
TZNAME:CEST
DTSTART:20220327T010000
END:DAYLIGHT
BEGIN:STANDARD
TZOFFSETFROM:+0200
TZOFFSETTO:+0100
TZNAME:CET
DTSTART:20221030T010000
END:STANDARD
END:VTIMEZONE
BEGIN:VEVENT
DTSTART;TZID=Europe/Berlin:20210310T190000
DTEND;TZID=Europe/Berlin:20210310T210000
DTSTAMP:20260425T162323
CREATED:20210226T211534Z
LAST-MODIFIED:20210226T211534Z
UID:3672-1615402800-1615410000@www.dkg-online.de
SUMMARY:Meet the Member - Das DKG Team Oberbayern stellt sich vor
DESCRIPTION:Im Rahmen der Veranstaltungsreihe „Meet the Member“ stellt sich das DKG Team Oberbayern vor. Wir berichten insbesondere über unsere Beziehungen zu Kanada und darüber\, was uns mit der DKG verbindet. Damit möchten wir kanadische Erfahrungen\, Empfindungen und Interessen mit Euch teilen und uns besser kennenlernen. Wir werden auch über den Stand der Planungen der DKG für das vor uns liegende Jahr informieren und zusätzliche Programmvorschläge gerne entgegennehmen. Darüber hinaus wird hinreichend viel Zeit für einen lockeren Gedankenaustausch bleiben. Bei zukünftigen Veranstaltungen werden wir möglichst vielen Mitgliedern die Möglichkeit geben\, sich ebenfalls vorzustellen\, Erwartungen an die DKG zu formulieren und Programmideen anzuregen. Wir sind sicher\, es werden sich dabei viele Gemeinsamkeiten\, parallele Erlebnisse und gemeinsame Interessen herauskristallisieren. \nAnmeldung: Bitte meldet Euch mit einem Klick auf diesen Link an. Ihr erhaltet dann umgehend die Einwahldaten zu unserem Zoom-Meeting. Wir freuen uns auf einen regen Gedankenaustausch mit Euch!
URL:https://www.dkg-online.de/event/meet-the-member-das-dkg-team-oberbayern-stellt-sich-vor/
LOCATION:Zuhause
END:VEVENT
END:VCALENDAR