BEGIN:VCALENDAR
VERSION:2.0
PRODID:-//DKG (Deutsch-Kanadische Gesellschaft) - ECPv6.15.20//NONSGML v1.0//EN
CALSCALE:GREGORIAN
METHOD:PUBLISH
X-ORIGINAL-URL:https://www.dkg-online.de
X-WR-CALDESC:Veranstaltungen für DKG (Deutsch-Kanadische Gesellschaft)
REFRESH-INTERVAL;VALUE=DURATION:PT1H
X-Robots-Tag:noindex
X-PUBLISHED-TTL:PT1H
BEGIN:VTIMEZONE
TZID:Europe/Berlin
BEGIN:DAYLIGHT
TZOFFSETFROM:+0100
TZOFFSETTO:+0200
TZNAME:CEST
DTSTART:20200329T010000
END:DAYLIGHT
BEGIN:STANDARD
TZOFFSETFROM:+0200
TZOFFSETTO:+0100
TZNAME:CET
DTSTART:20201025T010000
END:STANDARD
BEGIN:DAYLIGHT
TZOFFSETFROM:+0100
TZOFFSETTO:+0200
TZNAME:CEST
DTSTART:20210328T010000
END:DAYLIGHT
BEGIN:STANDARD
TZOFFSETFROM:+0200
TZOFFSETTO:+0100
TZNAME:CET
DTSTART:20211031T010000
END:STANDARD
BEGIN:DAYLIGHT
TZOFFSETFROM:+0100
TZOFFSETTO:+0200
TZNAME:CEST
DTSTART:20220327T010000
END:DAYLIGHT
BEGIN:STANDARD
TZOFFSETFROM:+0200
TZOFFSETTO:+0100
TZNAME:CET
DTSTART:20221030T010000
END:STANDARD
END:VTIMEZONE
BEGIN:VEVENT
DTSTART;TZID=Europe/Berlin:20210311T150000
DTEND;TZID=Europe/Berlin:20210311T164500
DTSTAMP:20260425T163807
CREATED:20210208T095512Z
LAST-MODIFIED:20210208T095512Z
UID:3615-1615474800-1615481100@www.dkg-online.de
SUMMARY:Kanada leicht gemacht - Mit CETA\, die beste Option für Nordamerika
DESCRIPTION:NRW.Europa lädt zusammen mit der Kanadischen Botschaft und dem Kanadischen Konsulat in Düsseldorf sowie der IHK Südwestfalen am Donnerstag\, den 11. März 2021 zu einem kompakten Seminar über Kanada ein. \nDetails und Anmeldung hier.
URL:https://www.dkg-online.de/event/kanada-leicht-gemacht-mit-ceta-die-beste-option-fuer-nordamerika/
LOCATION:Zuhause
END:VEVENT
END:VCALENDAR