BEGIN:VCALENDAR
VERSION:2.0
PRODID:-//DKG (Deutsch-Kanadische Gesellschaft) - ECPv6.15.20//NONSGML v1.0//EN
CALSCALE:GREGORIAN
METHOD:PUBLISH
X-ORIGINAL-URL:https://www.dkg-online.de
X-WR-CALDESC:Veranstaltungen für DKG (Deutsch-Kanadische Gesellschaft)
REFRESH-INTERVAL;VALUE=DURATION:PT1H
X-Robots-Tag:noindex
X-PUBLISHED-TTL:PT1H
BEGIN:VTIMEZONE
TZID:Europe/Berlin
BEGIN:DAYLIGHT
TZOFFSETFROM:+0100
TZOFFSETTO:+0200
TZNAME:CEST
DTSTART:20200329T010000
END:DAYLIGHT
BEGIN:STANDARD
TZOFFSETFROM:+0200
TZOFFSETTO:+0100
TZNAME:CET
DTSTART:20201025T010000
END:STANDARD
BEGIN:DAYLIGHT
TZOFFSETFROM:+0100
TZOFFSETTO:+0200
TZNAME:CEST
DTSTART:20210328T010000
END:DAYLIGHT
BEGIN:STANDARD
TZOFFSETFROM:+0200
TZOFFSETTO:+0100
TZNAME:CET
DTSTART:20211031T010000
END:STANDARD
BEGIN:DAYLIGHT
TZOFFSETFROM:+0100
TZOFFSETTO:+0200
TZNAME:CEST
DTSTART:20220327T010000
END:DAYLIGHT
BEGIN:STANDARD
TZOFFSETFROM:+0200
TZOFFSETTO:+0100
TZNAME:CET
DTSTART:20221030T010000
END:STANDARD
END:VTIMEZONE
BEGIN:VEVENT
DTSTART;TZID=Europe/Berlin:20210326T193000
DTEND;TZID=Europe/Berlin:20210326T220000
DTSTAMP:20260425T163807
CREATED:20210128T145214Z
LAST-MODIFIED:20210315T102956Z
UID:3574-1616787000-1616796000@www.dkg-online.de
SUMMARY:Virtual Canadian Pub Night #3/2021 ALBERTA SPECIAL!
DESCRIPTION:On behalf of the German-Canadian Association (DKG) and the Canadian Club of Belgium (CCB) we thank you so much for joining our „Virtual Canadian Pub Night Series“. We will meet traditionally at 7:30 pm CET (Bruxelles\, Berlin) – or 2:30 pm AST (Halifax)\, 1:30 pm EST (Montréal\, Toronto) and 11:30 am MST (Calgary) 10:30 am PST (Vancouver). If you have some ideas (for upcoming events) just let us know and send us an e-mail or provide us with your ideas in the comments and question field in the registration form. We are looking forward to seeing you! \nLocation: At home.\nRegistration: If you would like to register for the March event\, please follow this link. After the approval of your registration\, you will receive a confirmation with the login details (usually within 24 hours). And if you miss your families or best friends in Canada\, please share the registration link with them. Because they are – of course – heartily welcome! \n***The March Pub Night is an Alberta Special with a fun quizz AND the participation of 2 Alberta talents: Author Natascha Birovljev and Singer/Songwriter Justine Vandergrift\, you do not want to miss this!! \n  \n 
URL:https://www.dkg-online.de/event/save-the-date-virtual-canadian-pub-night-3/
LOCATION:Zuhause
END:VEVENT
END:VCALENDAR