BEGIN:VCALENDAR
VERSION:2.0
PRODID:-//DKG (Deutsch-Kanadische Gesellschaft) - ECPv6.15.20//NONSGML v1.0//EN
CALSCALE:GREGORIAN
METHOD:PUBLISH
X-ORIGINAL-URL:https://www.dkg-online.de
X-WR-CALDESC:Veranstaltungen für DKG (Deutsch-Kanadische Gesellschaft)
REFRESH-INTERVAL;VALUE=DURATION:PT1H
X-Robots-Tag:noindex
X-PUBLISHED-TTL:PT1H
BEGIN:VTIMEZONE
TZID:Europe/Berlin
BEGIN:DAYLIGHT
TZOFFSETFROM:+0100
TZOFFSETTO:+0200
TZNAME:CEST
DTSTART:20200329T010000
END:DAYLIGHT
BEGIN:STANDARD
TZOFFSETFROM:+0200
TZOFFSETTO:+0100
TZNAME:CET
DTSTART:20201025T010000
END:STANDARD
BEGIN:DAYLIGHT
TZOFFSETFROM:+0100
TZOFFSETTO:+0200
TZNAME:CEST
DTSTART:20210328T010000
END:DAYLIGHT
BEGIN:STANDARD
TZOFFSETFROM:+0200
TZOFFSETTO:+0100
TZNAME:CET
DTSTART:20211031T010000
END:STANDARD
BEGIN:DAYLIGHT
TZOFFSETFROM:+0100
TZOFFSETTO:+0200
TZNAME:CEST
DTSTART:20220327T010000
END:DAYLIGHT
BEGIN:STANDARD
TZOFFSETFROM:+0200
TZOFFSETTO:+0100
TZNAME:CET
DTSTART:20221030T010000
END:STANDARD
END:VTIMEZONE
BEGIN:VEVENT
DTSTART;TZID=Europe/Berlin:20210423T193000
DTEND;TZID=Europe/Berlin:20210423T223000
DTSTAMP:20260425T182244
CREATED:20210329T163055Z
LAST-MODIFIED:20210419T134756Z
UID:3731-1619206200-1619217000@www.dkg-online.de
SUMMARY:Virtual Canadian Pub Night - Nova Scotia Special!
DESCRIPTION:We will meet traditionally at 7:30 pm CEST (Bruxelles\, Berlin) – or 2:30 pm ADT (Halifax)\, 1:30 pm EDT (Montréal\, Toronto) and 11:30 am MDT (Calgary) 10:30 am PDT (Vancouver). \nThe province of Nova Scotia will be in the focus!  This time with Stand-Up Comedian Ben MacLean and also an Acadian Dance presentation! And of course\, our traditional fun and informative quiz about the Province! \nPlease register here.
URL:https://www.dkg-online.de/event/virtual-canadian-pub-night-nova-scotia-special/
LOCATION:Zuhause
END:VEVENT
END:VCALENDAR