BEGIN:VCALENDAR
VERSION:2.0
PRODID:-//DKG (Deutsch-Kanadische Gesellschaft) - ECPv6.15.20//NONSGML v1.0//EN
CALSCALE:GREGORIAN
METHOD:PUBLISH
X-ORIGINAL-URL:https://www.dkg-online.de
X-WR-CALDESC:Veranstaltungen für DKG (Deutsch-Kanadische Gesellschaft)
REFRESH-INTERVAL;VALUE=DURATION:PT1H
X-Robots-Tag:noindex
X-PUBLISHED-TTL:PT1H
BEGIN:VTIMEZONE
TZID:Europe/Berlin
BEGIN:DAYLIGHT
TZOFFSETFROM:+0100
TZOFFSETTO:+0200
TZNAME:CEST
DTSTART:20200329T010000
END:DAYLIGHT
BEGIN:STANDARD
TZOFFSETFROM:+0200
TZOFFSETTO:+0100
TZNAME:CET
DTSTART:20201025T010000
END:STANDARD
BEGIN:DAYLIGHT
TZOFFSETFROM:+0100
TZOFFSETTO:+0200
TZNAME:CEST
DTSTART:20210328T010000
END:DAYLIGHT
BEGIN:STANDARD
TZOFFSETFROM:+0200
TZOFFSETTO:+0100
TZNAME:CET
DTSTART:20211031T010000
END:STANDARD
BEGIN:DAYLIGHT
TZOFFSETFROM:+0100
TZOFFSETTO:+0200
TZNAME:CEST
DTSTART:20220327T010000
END:DAYLIGHT
BEGIN:STANDARD
TZOFFSETFROM:+0200
TZOFFSETTO:+0100
TZNAME:CET
DTSTART:20221030T010000
END:STANDARD
END:VTIMEZONE
BEGIN:VEVENT
DTSTART;TZID=Europe/Berlin:20210427T080000
DTEND;TZID=Europe/Berlin:20210502T170000
DTSTAMP:20260425T182142
CREATED:20210420T063138Z
LAST-MODIFIED:20210420T063138Z
UID:3776-1619510400-1619974800@www.dkg-online.de
SUMMARY:Kanada zu Gast bei dem Lichter Filmfest
DESCRIPTION:Zwei Filme aus Kanada werden bei dem Lichter Filmfest präsentiert: \nFlashwood\nIn Flashwood wird die Entwicklung einer Gruppe von Jugendlichen aus der Montrealer Vorstadt über sieben Jahre begleitet. \nSouterrain\nMaxime\, ein Minenarbeiter in Québec\, setzt sein eigenes Leben aufs Spiel\, um das seiner verschütteten Kollegen zu retten. \nAlle Details here. \n 
URL:https://www.dkg-online.de/event/kanada-zu-gast-bei-dem-lichter-filmfest/
LOCATION:Zuhause
END:VEVENT
BEGIN:VEVENT
DTSTART;TZID=Europe/Berlin:20210429T173000
DTEND;TZID=Europe/Berlin:20210429T190000
DTSTAMP:20260425T182142
CREATED:20210420T063546Z
LAST-MODIFIED:20210420T063546Z
UID:3778-1619717400-1619722800@www.dkg-online.de
SUMMARY:Einladung: Virtuelle Kunstausstellung - Magnetic North
DESCRIPTION:Magnetic North – Mythos Kanada in der Malerei 1910-1940 \nLive aus der Schirn Kunsthalle Frankfurt\nLiebe DKG-Mitglieder und KanadafreundInnen\, \ndie DKG-Regionalgruppe Rhein-Main freut sich\, Sie gemeinsam mit der Schirn Kunsthalle Frankfurt und unserem korporativen Mitglied\, der Anwaltskanzlei Arnecke Sibeth Dabelstein\, herzlich zu unserer Online-Führung durch die Kunstausstellung MAGNETIC NORTH mit bisher in Europa noch nicht gezeigten Werken der berühmten Group of Seven einladen zu können. \nProgrammablauf: \nIntro: kurzer Ausschnitt aus dem Film zur Ausstellung\nGrußwort Michael Siebold\, Präsident der DKG und Senior Partner ARNECKE SIBETH DABELSTEIN\nKurzvortrag Prof. Dr. Wolfgang Klooß\, Universität Trier / Präsidium DKG\nVirtuelle Führung durch die renommierte Kunstvermittlerin Berby Krägefsky\nNach einem Einführungsfilm und dem Grußwort unseres Präsidenten Michael Siebold erwartet Sie ein Kurzvortrag unseres Präsidiumsmitglieds Wolfgang Klooß über die kulturhistorischen und gesellschaftspolitischen Hintergründe der Group of Seven. Danach führt uns die Kunsthistorikerin Berby Krägefsky anhand ausgewählter Exponate virtuell durch die Ausstellung. Im Anschluss an die Präsentationen stehen Ihnen Berby Krägefsky und Wolfgang Klooß gerne für Fragen zur Verfügung. \nUm sich auf die Veranstaltung einzustimmen\, bietet sich das offizielle Digitorial der SCHIRN für Smartphones\, Tablets oder den Desktop an: MAGNETIC NORTH – Digitorial. Die Anmeldung zur virtuellen Kunstausstellung erfolgt hier. Wir freuen uns darauf\, Sie am 29. April live aus Frankfurt begrüßen zu dürfen.
URL:https://www.dkg-online.de/event/einladung-virtuelle-kunstausstellung-magnetic-north/
END:VEVENT
BEGIN:VEVENT
DTSTART;TZID=Europe/Berlin:20210429T183000
DTEND;TZID=Europe/Berlin:20210429T203000
DTSTAMP:20260425T182142
CREATED:20210416T103146Z
LAST-MODIFIED:20210416T103146Z
UID:3767-1619721000-1619728200@www.dkg-online.de
SUMMARY:YTL LEADERS LOUNGE
DESCRIPTION:We are happy to announce fhat Alim Dhanai (Chair of the Company of Young Professionals Advisory Committee at the Greater Vancouver Board of Trade) will join us for our Leaders Lounge in April. We will discuss the activities of YPC and the Vancoucer Board of Trade\, his experineces in volunteering\, and many more thins. You can sign up for the event here. \nat 6.30 pm (CEST) / 12.30 pm (EDT) / 9.30 am (PDT)
URL:https://www.dkg-online.de/event/ytl-leaders-lounge/
LOCATION:At home
END:VEVENT
END:VCALENDAR