BEGIN:VCALENDAR
VERSION:2.0
PRODID:-//DKG (Deutsch-Kanadische Gesellschaft) - ECPv6.15.20//NONSGML v1.0//EN
CALSCALE:GREGORIAN
METHOD:PUBLISH
X-WR-CALNAME:DKG (Deutsch-Kanadische Gesellschaft)
X-ORIGINAL-URL:https://www.dkg-online.de
X-WR-CALDESC:Veranstaltungen für DKG (Deutsch-Kanadische Gesellschaft)
REFRESH-INTERVAL;VALUE=DURATION:PT1H
X-Robots-Tag:noindex
X-PUBLISHED-TTL:PT1H
BEGIN:VTIMEZONE
TZID:Europe/Berlin
BEGIN:DAYLIGHT
TZOFFSETFROM:+0100
TZOFFSETTO:+0200
TZNAME:CEST
DTSTART:20220327T010000
END:DAYLIGHT
BEGIN:STANDARD
TZOFFSETFROM:+0200
TZOFFSETTO:+0100
TZNAME:CET
DTSTART:20221030T010000
END:STANDARD
BEGIN:DAYLIGHT
TZOFFSETFROM:+0100
TZOFFSETTO:+0200
TZNAME:CEST
DTSTART:20230326T010000
END:DAYLIGHT
BEGIN:STANDARD
TZOFFSETFROM:+0200
TZOFFSETTO:+0100
TZNAME:CET
DTSTART:20231029T010000
END:STANDARD
BEGIN:DAYLIGHT
TZOFFSETFROM:+0100
TZOFFSETTO:+0200
TZNAME:CEST
DTSTART:20240331T010000
END:DAYLIGHT
BEGIN:STANDARD
TZOFFSETFROM:+0200
TZOFFSETTO:+0100
TZNAME:CET
DTSTART:20241027T010000
END:STANDARD
END:VTIMEZONE
BEGIN:VEVENT
DTSTART;TZID=Europe/Berlin:20230418T170000
DTEND;TZID=Europe/Berlin:20230423T130000
DTSTAMP:20260421T122448
CREATED:20230405T140147Z
LAST-MODIFIED:20230405T140528Z
UID:5744-1681837200-1682254800@www.dkg-online.de
SUMMARY:Lichter Filmfest Frankfurt International
DESCRIPTION:Lichter Filmfest Frankfurt International 18.- 23.4.2023 mit 2 Filmen aus Kanada: \nRiceboy Sleeps –\nTrailer \nRegie: Anthony Shim\nFamiliendrama\, 2022\nSprache: Englisch\, Koreanisch mit deutschen Untertiteln\nDauer: 117 min\nToronto Film Festival 2022: Best Canadian Film\, Busan International Film Festival 2022: Publikumspreis\nDEUTSCHLANDPREMIERE\nMittwoch\, 19. April 2023\, 18:00 Uhr\, Kino des DFF\n8€ / 6€ \nI Like Movies – \nTrailer\nProgrammreihe: Internationaler Langfilm\nRegie: Chandler Levack\nKomödie\, 2022\nSprache: Englisch\nDauer: 99 min\nToronto Film Festival 2022: Canada’s Top Ten\, Calgary International Film Festival 2022: Emerging Artist Award\nDEUTSCHLANDPREMIERE\nFreitag\, 21. April 2023\, 18:30 Uhr\, Kino des DFF\n8€ / 6€ \n 
URL:https://www.dkg-online.de/event/lichter-filmfest-frankfurt-international/
LOCATION:Verschiedene Kinos\, Frankfurt am Main
END:VEVENT
BEGIN:VEVENT
DTSTART;TZID=Europe/Berlin:20230420T193000
DTEND;TZID=Europe/Berlin:20230420T213000
DTSTAMP:20260421T122448
CREATED:20230224T112409Z
LAST-MODIFIED:20230224T112409Z
UID:5573-1682019000-1682026200@www.dkg-online.de
SUMMARY:Singer/Songwriter Slow Leaves from Manitoba on Tour in Germany and Europe
DESCRIPTION:Singer/Songwriter „Slow Leaves“ from Manitoba is touring Germany and Europe. \n20.04 Luxembourg\, LU De Gudde Wëllen\n21.04 Essen\, DE GREND\n22.04 Magdeburg\, DE Factory Magdeburg (club)\n23.04 Bad Essen\, DE Schafstall Bad Essen\n25.04 Mannheim\, DE ALTER\n26.04 Stuttgart\, DE Cafe Galao\n27.04 Kehl\, DE Das Kulturhaus.\n28.04 Lorrach\, DE Nellie Nashorn\n29.04 Laufach\, DE Spessarttor\n30.04 Apeldoorn\, NL\, Gigant Apeldoorn\n01.05 Ermelo\, NL\, Camping In De Rimboe\n03.05 Kufstein\, AT Vitus & Urban / Arte Hotel\n04.05 Salzburg\, AT hu:goes14 / Arte Hotel\n05.05 Murnau\, DE Forum Westtorhalle\n07.05 Berlin\, DE Zimmer 16\n08.05 Hamburg\, DE Pony Bar\n09.05 Cologne\, DE Weltempfänger
URL:https://www.dkg-online.de/event/singer-songwriter-slow-leaves-from-manitoba-on-tour-in-germany-and-europe/
END:VEVENT
END:VCALENDAR