BEGIN:VCALENDAR
VERSION:2.0
PRODID:-//DKG (Deutsch-Kanadische Gesellschaft) - ECPv6.15.20//NONSGML v1.0//EN
CALSCALE:GREGORIAN
METHOD:PUBLISH
X-ORIGINAL-URL:https://www.dkg-online.de
X-WR-CALDESC:Veranstaltungen für DKG (Deutsch-Kanadische Gesellschaft)
REFRESH-INTERVAL;VALUE=DURATION:PT1H
X-Robots-Tag:noindex
X-PUBLISHED-TTL:PT1H
BEGIN:VTIMEZONE
TZID:Europe/Berlin
BEGIN:DAYLIGHT
TZOFFSETFROM:+0100
TZOFFSETTO:+0200
TZNAME:CEST
DTSTART:20220327T010000
END:DAYLIGHT
BEGIN:STANDARD
TZOFFSETFROM:+0200
TZOFFSETTO:+0100
TZNAME:CET
DTSTART:20221030T010000
END:STANDARD
BEGIN:DAYLIGHT
TZOFFSETFROM:+0100
TZOFFSETTO:+0200
TZNAME:CEST
DTSTART:20230326T010000
END:DAYLIGHT
BEGIN:STANDARD
TZOFFSETFROM:+0200
TZOFFSETTO:+0100
TZNAME:CET
DTSTART:20231029T010000
END:STANDARD
BEGIN:DAYLIGHT
TZOFFSETFROM:+0100
TZOFFSETTO:+0200
TZNAME:CEST
DTSTART:20240331T010000
END:DAYLIGHT
BEGIN:STANDARD
TZOFFSETFROM:+0200
TZOFFSETTO:+0100
TZNAME:CET
DTSTART:20241027T010000
END:STANDARD
END:VTIMEZONE
BEGIN:VEVENT
DTSTART;TZID=Europe/Berlin:20230427T100000
DTEND;TZID=Europe/Berlin:20230427T140000
DTSTAMP:20260421T175515
CREATED:20230327T091602Z
LAST-MODIFIED:20230327T091602Z
UID:5688-1682589600-1682604000@www.dkg-online.de
SUMMARY:Canada Info-Session
DESCRIPTION:Die AiF Projekt GmbH lädt zusammen mit der kanadischen Förderorganisation NRC herzlich zu einer Informationsveranstaltung anlässlich der 11. Ausschreibung zur Förderung gemeinsamer FuE-Projekte bei der ZENIT GmbH in Mülheim an der Ruhr ein. \nSie ist kostenfrei\, die Vorträge werden auf Englisch gehalten. Neben Informationen zur Antragstellung und den Förderinstrumenten beider Länder\, berichtet die MotionMiners GmbH aus Dortmund über ein erfolgreiches ZIM-Projekt\, das sie mit einem kanadischen Partner umsetzen konnte. Auch werden weitere Organisationen vorgestellt\, die zum Beispiel bei einem Markteintritt in Kanada behilflich sein können. Ein abschließender Mittagsimbiss gibt den Teilnehmern die Gelegenheit\, individuelle Fragen im Gespräch zu klären. \nHier finden Sie die Agenda: agenda_canada-info-session_muelheim_2023-04-27 \nBitte melden Sie sich über den folgenden Link oder unten auf der Seite „Informationen & Anmeldung“ verbindlich an. \n 
URL:https://www.dkg-online.de/event/canada-info-session/
LOCATION:Zenit GmbH\, Bismarcksr. 28\, Mülheim an der Ruhr\, 45470
END:VEVENT
BEGIN:VEVENT
DTSTART;TZID=Europe/Berlin:20230427T170000
DTEND;TZID=Europe/Berlin:20230427T190000
DTSTAMP:20260421T175515
CREATED:20230322T130757Z
LAST-MODIFIED:20230322T131339Z
UID:5675-1682614800-1682622000@www.dkg-online.de
SUMMARY:Lise-Meitner-Lecture in Berlin
DESCRIPTION:Nobelpreisträgerin Donna Strickland hält die Lise-Meitner-Lecture 2023 \n  \nLiebe Freunde und Freundinnen Kanadas\, \nwir laden Sie herzlich zu einem besonderen Vortrag am 27.04. in Berlin ein:\nDie kanadische Professorin Donna Strickland\, eine der wenigen Frauen unter den Physik-NobelpreisträgerInnen\, wird die diesjährige Lise-Meitner-Lecture halten. Die Lise-Meitner-Lectures sind ein gemeinsames Projekt der Österreichischen und der Deutschen Physikalischen Gesellschaften. Jedes Jahr hält eine bedeutende Physikerin in Österreich und Deutschland einen öffentlichen Vortrag. In diesem Jahr wird das Projekt von der DKG und der Botschaft von Kanada unterstützt. Nach\nder Begrüßung durch die HU\, die Physikalischen Gesellschaften Deutschlands und Österreichs\, die Botschaft von Kanada und die DKG wird Donna Strickland über ihre bahnbrechenden Arbeiten zum Thema „Generating High-Intensity\, Ultrashort Optical Pulses“ vortragen. Im Anschluss kleiner Stehempfang. Seien Sie bei Prof. Dr. Donna Stricklands erstem Besuch in Berlin dabei! Melden Sie sich bitte hier an. \n  \nLecture \nWith the invention of lasers\, the intensity of a light wave was increased by orders of magnitude over what had been achieved with a light bulb or sunlight. This much higher intensity led to new phenomena being observed\, such as violet light coming out when red light went into the material. After Gérard Mourou and I developed chirped pulse amplification\, also known as CPA\, the intensity again increased by more than a factor of 1\,000 and it once again made new types of interactions possible between light and matter. We developed a laser that could deliver short pulses of light that knocked the electrons off their atoms. This new understanding of laser-matter interactions\, led to the development of new machining techniques that are used in laser eye surgery or micromachining of glass used in cell phones. \n \nShort Biography \nDonna Strickland is a professor in the Department of Physics and Astronomy at the University of Waterloo and is one of the recipients of the Nobel Prize in Physics 2018 for developing chirped pulse amplification with Gérard Mourou\, her PhD supervisor at the time. They published this Nobel-winning research in 1985 when Strickland was a PhD student at the University of Rochester.\nStrickland earned a B.Eng. from McMaster University and a PhD in optics from the University of Rochester. Strickland was a research associate at the National Research Council Canada\, a physicist at Lawrence Livermore National Laboratory and a member of technical staff at Princeton University. In 1997\, she joined the University of Waterloo\, where her ultrafast laser group develops high-intensity laser systems for nonlinear optics investigations. She was named a 2021 Hagler Fellow of Texas A&M University and sits on the Growth Technology Advisory Board of Applied Materials.\nStrickland served as the president of the Optica (formerly OSA) in 2013 and is a fellow of Optica\, SPIE\, the Royal Society of Canada and the Royal Society. She is an honorary fellow of the Canadian Academy of Engineering and the Institute of Physics\, an international member of the US National Academy of Science and member of the Pontifical Academy of Science. Strickland was named a Companion of the Order of Canada.
URL:https://www.dkg-online.de/event/lise-meitner-lecture-in-berlin/
LOCATION:Humboldt-Universität zu Berlin\, Invalidenstrasse 42 / Historischer Hörsaal - HS 10\, Berlin\, 10115
END:VEVENT
END:VCALENDAR