BEGIN:VCALENDAR
VERSION:2.0
PRODID:-//DKG (Deutsch-Kanadische Gesellschaft) - ECPv6.15.20//NONSGML v1.0//EN
CALSCALE:GREGORIAN
METHOD:PUBLISH
X-WR-CALNAME:DKG (Deutsch-Kanadische Gesellschaft)
X-ORIGINAL-URL:https://www.dkg-online.de
X-WR-CALDESC:Veranstaltungen für DKG (Deutsch-Kanadische Gesellschaft)
REFRESH-INTERVAL;VALUE=DURATION:PT1H
X-Robots-Tag:noindex
X-PUBLISHED-TTL:PT1H
BEGIN:VTIMEZONE
TZID:Europe/Berlin
BEGIN:DAYLIGHT
TZOFFSETFROM:+0100
TZOFFSETTO:+0200
TZNAME:CEST
DTSTART:20220327T010000
END:DAYLIGHT
BEGIN:STANDARD
TZOFFSETFROM:+0200
TZOFFSETTO:+0100
TZNAME:CET
DTSTART:20221030T010000
END:STANDARD
BEGIN:DAYLIGHT
TZOFFSETFROM:+0100
TZOFFSETTO:+0200
TZNAME:CEST
DTSTART:20230326T010000
END:DAYLIGHT
BEGIN:STANDARD
TZOFFSETFROM:+0200
TZOFFSETTO:+0100
TZNAME:CET
DTSTART:20231029T010000
END:STANDARD
BEGIN:DAYLIGHT
TZOFFSETFROM:+0100
TZOFFSETTO:+0200
TZNAME:CEST
DTSTART:20240331T010000
END:DAYLIGHT
BEGIN:STANDARD
TZOFFSETFROM:+0200
TZOFFSETTO:+0100
TZNAME:CET
DTSTART:20241027T010000
END:STANDARD
END:VTIMEZONE
BEGIN:VEVENT
DTSTART;TZID=Europe/Berlin:20230618T103000
DTEND;TZID=Europe/Berlin:20230618T133000
DTSTAMP:20260421T122635
CREATED:20230607T083630Z
LAST-MODIFIED:20230607T083631Z
UID:5943-1687084200-1687095000@www.dkg-online.de
SUMMARY:DKG Oberbayern: Jazzbiergarten in Pullach
DESCRIPTION:Liebe DKG-Mitglieder\, liebe Kanadafreundinnen und -freunde\,\nDie Biergartenzeit ist in vollem Gange. Daher lädt die DKG Oberbayern alle Kanada- und Biergartenfans zu einem gemeinsamen Jazzbrunch ein. Wir freuen uns auf zahlreiches Erscheinen bei hoffentlich sonnigem Wetter. Wir bitten Euch um Eure Anmeldung bis zum 15. Juni unter info@dkg-online.de. \nWir freuen uns auf Euch!!! \nEuer DKG Team Oberbayern \n*****Mit dem MVV geht es mit der S7 zum Isartalbahnhof/Großhesselohe oder mit der Tram 25 und 15 über die Station Großhesseloher Brücke. Von dort ca. 15 min Fußweg.\nParkplätze sind in begrenzter Zahl ebenfalls vorhanden.\nhttps://waldwirtschaft.de/
URL:https://www.dkg-online.de/event/dkg-oberbayern-jazzbiergarten-in-pullach/
LOCATION:Waldwirtschaft Grosshesselohe\, Georg-Kalb-Straße 3\, Pullach i. Isartal\, 82049
END:VEVENT
END:VCALENDAR