BEGIN:VCALENDAR
VERSION:2.0
PRODID:-//DKG (Deutsch-Kanadische Gesellschaft) - ECPv6.15.20//NONSGML v1.0//EN
CALSCALE:GREGORIAN
METHOD:PUBLISH
X-ORIGINAL-URL:https://www.dkg-online.de
X-WR-CALDESC:Veranstaltungen für DKG (Deutsch-Kanadische Gesellschaft)
REFRESH-INTERVAL;VALUE=DURATION:PT1H
X-Robots-Tag:noindex
X-PUBLISHED-TTL:PT1H
BEGIN:VTIMEZONE
TZID:Europe/Berlin
BEGIN:DAYLIGHT
TZOFFSETFROM:+0100
TZOFFSETTO:+0200
TZNAME:CEST
DTSTART:20220327T010000
END:DAYLIGHT
BEGIN:STANDARD
TZOFFSETFROM:+0200
TZOFFSETTO:+0100
TZNAME:CET
DTSTART:20221030T010000
END:STANDARD
BEGIN:DAYLIGHT
TZOFFSETFROM:+0100
TZOFFSETTO:+0200
TZNAME:CEST
DTSTART:20230326T010000
END:DAYLIGHT
BEGIN:STANDARD
TZOFFSETFROM:+0200
TZOFFSETTO:+0100
TZNAME:CET
DTSTART:20231029T010000
END:STANDARD
BEGIN:DAYLIGHT
TZOFFSETFROM:+0100
TZOFFSETTO:+0200
TZNAME:CEST
DTSTART:20240331T010000
END:DAYLIGHT
BEGIN:STANDARD
TZOFFSETFROM:+0200
TZOFFSETTO:+0100
TZNAME:CET
DTSTART:20241027T010000
END:STANDARD
END:VTIMEZONE
BEGIN:VEVENT
DTSTART;TZID=Europe/Berlin:20230915T190000
DTEND;TZID=Europe/Berlin:20231125T220000
DTSTAMP:20260425T193220
CREATED:20230822T205053Z
LAST-MODIFIED:20230822T205053Z
UID:6357-1694804400-1700949600@www.dkg-online.de
SUMMARY:Christina Martin on tour
DESCRIPTION:Christina Martin on tour\n15. September – 25. November 2023\nverschiedene Orte in ganz Deutschland \nChristina Martin\, Singer Songwriter aus Kanada\, kommt von September bis November auf Deutschlandtour und ist auch in kleineren Städten zu erleben. \nMehr Informationen hier 
URL:https://www.dkg-online.de/event/christina-martin-on-tour/
END:VEVENT
BEGIN:VEVENT
DTSTART;TZID=Europe/Berlin:20231009T180000
DTEND;TZID=Europe/Berlin:20231009T203000
DTSTAMP:20260425T193220
CREATED:20230915T115646Z
LAST-MODIFIED:20230915T115646Z
UID:6427-1696874400-1696883400@www.dkg-online.de
SUMMARY:DKG Thanksgiving Dinner in Köln
DESCRIPTION:Liebe Freundinnen und Freunde Kanadas\, \nnach kanadischer Tradition findet am Montag\, 09. Oktober das alljährliche Thanksgiving statt. Dieser Tradition wollen wir auch im Rheinland nachkommen und laden daher Interessierte und Mitglieder nach Köln ein. Das im Dezember 2022 neu eröffnete Restaurant Virtuous Pie serviert vegane Pizzen und Eiscreme und wird von dem deutsch-kanadischen Paar Alissa und Christoph Klein geführt. Gründungsort des ersten Restaurants mit diesem Namen ist Vancouver\, und Köln ist neben Victoria und Portland nun der dritte Ableger des Familienunternehmens. Für Getränke und Essen sorgt jede/r auf Selbstzahlerbasis. Wir freuen uns darauf\, möglichst viele altbekannte und neue Gesichter in Köln begrüßen zu dürfen. \nBitte bis zum 02. Oktober über dieses Formular anmelden. Kommt vorbei – ihr seid\nherzlich willkommen! \n_________________________________________________- \n**DKG Rheinland auf dem Bürgerfest Kastellaun** \nSonntag\, 24. September 13-18 Uhr \nDie DKG Rheinland ist auch dieses Jahr wieder auf dem Bürgerfest Kastellaun vertreten.\nAuf dem Bürgerfest erwarten Sie wieder viele Ausstellungen\, Markstände\, Flohmärkte und interkulturelle Stände – alles unter dem Motto „Vielfalt so nah“. Wir freuen uns auch hier\, mit euch ins Gespräch zu kommen!\nMehr Infos hier. \nhttps://www.einkaufen-in-kastellaun.de/events/buergerfest/
URL:https://www.dkg-online.de/event/dkg-thanksgiving-dinner-in-koeln/
LOCATION:Restaurant Virtuous Pie\, Venloer Straße 241-245\, Köln\, 50823
END:VEVENT
BEGIN:VEVENT
DTSTART;TZID=Europe/Berlin:20231009T190000
DTEND;TZID=Europe/Berlin:20231009T210000
DTSTAMP:20260425T193220
CREATED:20230915T141623Z
LAST-MODIFIED:20230915T141623Z
UID:6431-1696878000-1696885200@www.dkg-online.de
SUMMARY:DKG Canadian Thanksgiving Dinner in Munich
DESCRIPTION:For our traditional Canadian Thanksgiving Dinner we meet this year again at the „Erdinger Weissbräu“\, a typical Bavarian Restaurant. \nWe ask you to register here by October 4th so that the Restaurant and we can plan accordingly. \nDine\, chat\, make new friends and give thanks. See you on the 9th of October 2023! \nYour DKG Team Oberbayern
URL:https://www.dkg-online.de/event/dkg-canadian-thanksgiving-dinner-in-munich/
LOCATION:Gasthaus zum Erdinger Weißbräu\, Heiglhofstrasse 13\, München-Großhadern\, 81377
END:VEVENT
END:VCALENDAR