BEGIN:VCALENDAR
VERSION:2.0
PRODID:-//DKG (Deutsch-Kanadische Gesellschaft) - ECPv6.15.20//NONSGML v1.0//EN
CALSCALE:GREGORIAN
METHOD:PUBLISH
X-WR-CALNAME:DKG (Deutsch-Kanadische Gesellschaft)
X-ORIGINAL-URL:https://www.dkg-online.de
X-WR-CALDESC:Veranstaltungen für DKG (Deutsch-Kanadische Gesellschaft)
REFRESH-INTERVAL;VALUE=DURATION:PT1H
X-Robots-Tag:noindex
X-PUBLISHED-TTL:PT1H
BEGIN:VTIMEZONE
TZID:Europe/Berlin
BEGIN:DAYLIGHT
TZOFFSETFROM:+0100
TZOFFSETTO:+0200
TZNAME:CEST
DTSTART:20220327T010000
END:DAYLIGHT
BEGIN:STANDARD
TZOFFSETFROM:+0200
TZOFFSETTO:+0100
TZNAME:CET
DTSTART:20221030T010000
END:STANDARD
BEGIN:DAYLIGHT
TZOFFSETFROM:+0100
TZOFFSETTO:+0200
TZNAME:CEST
DTSTART:20230326T010000
END:DAYLIGHT
BEGIN:STANDARD
TZOFFSETFROM:+0200
TZOFFSETTO:+0100
TZNAME:CET
DTSTART:20231029T010000
END:STANDARD
BEGIN:DAYLIGHT
TZOFFSETFROM:+0100
TZOFFSETTO:+0200
TZNAME:CEST
DTSTART:20240331T010000
END:DAYLIGHT
BEGIN:STANDARD
TZOFFSETFROM:+0200
TZOFFSETTO:+0100
TZNAME:CET
DTSTART:20241027T010000
END:STANDARD
END:VTIMEZONE
BEGIN:VEVENT
DTSTART;TZID=Europe/Berlin:20230915T190000
DTEND;TZID=Europe/Berlin:20231125T220000
DTSTAMP:20260425T174639
CREATED:20230822T205053Z
LAST-MODIFIED:20230822T205053Z
UID:6357-1694804400-1700949600@www.dkg-online.de
SUMMARY:Christina Martin on tour
DESCRIPTION:Christina Martin on tour\n15. September – 25. November 2023\nverschiedene Orte in ganz Deutschland \nChristina Martin\, Singer Songwriter aus Kanada\, kommt von September bis November auf Deutschlandtour und ist auch in kleineren Städten zu erleben. \nMehr Informationen hier 
URL:https://www.dkg-online.de/event/christina-martin-on-tour/
END:VEVENT
BEGIN:VEVENT
DTSTART;TZID=Europe/Berlin:20231102T180000
DTEND;TZID=Europe/Berlin:20231214T200000
DTSTAMP:20260425T174639
CREATED:20231031T092933Z
LAST-MODIFIED:20231031T092933Z
UID:6561-1698948000-1702584000@www.dkg-online.de
SUMMARY:#westkanada – Wo der Pazifik den Regenwald küsst
DESCRIPTION:Verena Schmidt von Starlite & Wild lädt ein zu Ihre Vorträge: \n#westkanada – Wo der Pazifik den Regenwald küsst\nReise mit mir durch quirlige Städte und wilde Wälder\, an zerklüftete Küsten und auf schneebedeckte Berge der einmaligen Insellandschaft Westkanadas\n02.11. #trier\n03.11. #wiesbaden\n08.11. #dresden (Reise-Kneipe)\n09.11 #leipzigcity\n15.11. #dortmund\n16.11. #düsseldorf\n06.12. #regensburg\n07.12. #nürnberg\n08.12. #Augsburg\n13.12. #hannover\n14.12. #hamburg\n🍁Umringt von sonnigen Inseln\, dichtem Regenwald und gletscherbedeckten Bergen liegt die zauberhafte Millionenmetropole Vancouver. Strandspaziergang morgens\, Stadtbummel mittags\, Skifahren nachmittags und abends Party. So könnte ein gelungener Tag in Nord-Hollywood aussehen. Lebendige Vielfalt\, die seinesgleichen sucht!\n🐋Wir klettern auf spektakuläre Berge\, waten durch weltberühmten Matsch der Küstentrails\, besuchen beschauliche Orte und windgepeitschte Buchten\, sonnen uns auf Treibholz an Traumstränden und lassen uns von Vancouver verführen. Kanadische Natur pur. Faszinierend lebendig.\n🌎Und ganz nebenbei gibt’s noch jede Menge Tipps zur Reiseplanung\, Tourenvorbereitung und zum Wandern.\n💯Ich freue mich auf Euch!
URL:https://www.dkg-online.de/event/westkanada-wo-der-pazifik-den-regenwald-kuesst/
END:VEVENT
BEGIN:VEVENT
DTSTART;TZID=Europe/Berlin:20231103T190000
DTEND;TZID=Europe/Berlin:20231202T220000
DTSTAMP:20260425T174639
CREATED:20231016T161137Z
LAST-MODIFIED:20231016T161137Z
UID:6520-1699038000-1701554400@www.dkg-online.de
SUMMARY:Singer/Songwriter Matt Epp auf Tour in Deutschland
DESCRIPTION:Nach 4 Jahren ist Kanadier Matt Epp wieder in Deutschland – nicht verpassen: \nNovember 2023 ‚ROLLING WAVE TOUR‘ Germany\nwith support by JD Crosstown feat Alison MacGregor\n​\nNov 3 FRI – BUDBERG @ EVANGELISCHE KIRCHE BUDBERG\nNov 4 SAT – BAD DOBERAN @ KORNHAUS\nNov 5 SUN – BERLIN @ GEMEINDEHAUS OSTPREUßENDAMM\nNov 8 WED – HAMBURG @ PONY & BLOND\nNov 9 THU – KIEL @ PRINZ WILLYS\nNov 10 FRI – HAMBURG @ LIVINGROOM CONCERT\nNov 11 SAT – HAMBURG @ TRIBE YOGA BASE\nNov 16 THU – GÖTTINGEN @ APEX\nNov 17 FRI – GROßKARLBACH @ FRANKS BODEGA\nNov 18 SAT – SINGWITZ @ KESSELHAUS LAGER\nNov 19 SUN – ESSEN @ STEPHANUS GEMEINDEZENTRUM\nNov 20 MON – WESEL @ JZ KARO\nNov 24 FRI – ST. INGBERT @ ALEX BILLARD CAFE\nNov 25 SAT – REUTLINGEN @ LIVINGROOM CONCERT\nNov 26 SUN – DUßLINGEN @ SAINT PAULUS KIRCHE\nNov 28 TUE – STUTTGART @ CAFE GALAO\nNov 29 WED – TÜBINGEN @ DAS BLAUE ECK\nDec 1 FRI – DUISBURG @ WHERE THE BIRDS FLY\nDec 2 SAT – LANGENBERG @ KGB
URL:https://www.dkg-online.de/event/singer-songwriter-matt-epp-auf-tour-in-deutschland/
END:VEVENT
BEGIN:VEVENT
DTSTART;TZID=Europe/Berlin:20231106T100000
DTEND;TZID=Europe/Berlin:20231111T180000
DTSTAMP:20260425T174639
CREATED:20231101T100533Z
LAST-MODIFIED:20231101T100533Z
UID:6569-1699264800-1699725600@www.dkg-online.de
SUMMARY:Lesereise David A. Robertson
DESCRIPTION:Nach einer Pandemiebedingten Absage der ersten Lesereise freut es uns nun umso mehr\, dass unser kanadischer Autor David A. Robertson\, in seiner Heimat bereits vielfach ausgezeichnet\, nun endlich seinen ersten Besuch in Deutschland angekündigt hat! Vom 06.-11. November 2023 macht er Halt in Stuttgart\, Tübingen\, Dresden\, Berlin und Hamburg\, um seine Bücher vorzustellen\, die von Kultur und Geschichte der First Nations\, von kultureller (Selbst-)Ermächtigung und Emanzipation handeln. In seiner neu erschienenen MISEWA-Saga gelingt es ihm beispiellos\, indigene Mythen mit viel diskutierten Problemen wie den Residential Schools und dem Foster Care-System zu verknüpfen. \nDavid A. Robertson (*1977) überzeugt dabei nicht nur als Schriftsteller\, sondern ebenso als gewandter Redner und Gesprächspartner\, der sich als Angehöriger der Norway House Cree Nation und engagierter\, kritischer Beobachter seit Jahren mit der Stigmatisierung und den Rechten der indigenen Bevölkerung auseinandersetzt. \nMERLIN VERLAG / LITTLE TIGER VERLAG\nPresse/Veranstaltungen \nTERMINE: \n06. November 2023\n10:00 Uhr \nStuttgart\nLesung und Gespräch \nLinden-Museum\, Hegelplatz 1\, Stuttgart \n07. November 2023 \nTübingen \n09:00 Uhr – Schulklassenlesung \n18:15 Uhr – „Meet the author“ – Talk\, reading and Q&A\nUniversität Tübingen\, Brechtbau\, Wilhelmstr. 50 \nIn Kooperation mit dem Deutsch-Amerikanischen Institut Tübingen und dem American Studies Department der Universität Tübingen. Weitere Informationen hier. \n08. November 2023\nt.b.a. \nDresden \nLesung und Gespräch\nLocation t.b.a. \nIn Kooperation mit der TU Dresden. \n09. November 2023\nt.b.a. \nBerlin\nVortrag/Lesung \nKanadische Botschaft\, Leipziger Platz 17\, Berlin \n10. November 2023 \nHamburg\n10:00 Uhr – Bilinguale Schulklassenlesung \nKinderbuchhaus Altona\, Museumstraße 23 \n16:00 Uhr – Lesung\, Gespräch und Q&A\nMARKK – Museum am Rothenbaum\, Rothenbaumchaussee 64
URL:https://www.dkg-online.de/event/lesereise-david-a-robertson/
END:VEVENT
BEGIN:VEVENT
DTSTART;TZID=Europe/Berlin:20231106T190000
DTEND;TZID=Europe/Berlin:20231112T213000
DTSTAMP:20260425T174639
CREATED:20231025T111101Z
LAST-MODIFIED:20231025T111101Z
UID:6533-1699297200-1699824600@www.dkg-online.de
SUMMARY:Singer/Songwriter und Juno Gewinner William Prince auf Tour in Deutschland
DESCRIPTION:Singer/Songwriter und Juno Gewinner William Prince auf Tour in Deutschland: \nNOV 6 MON\nFluxbau @ 7:00pm\nBerlin\, Germany \nNOV 7 TUE\nIm Wizemann Studio @ 7:00pm\nStuttgart\, Germany \nNOV 8 WED\nNachtleben @ 7:00pm\nFrankfurt\, Germany \nNOV 9 THU\nStrom @ 7:00pm\nMunich\, Germany \nNOV 11 SAT\nKent Club @ 7:00pm\nHamburg\, Germany \nNOV 12 SUN\nLeverkusener Jazztage 2023 @ 7:00pm\nLeverkusen\, Germany
URL:https://www.dkg-online.de/event/singer-songwriter-und-juno-gewinner-william-prince-auf-tour-in-deutschland/
END:VEVENT
END:VCALENDAR