BEGIN:VCALENDAR
VERSION:2.0
PRODID:-//DKG (Deutsch-Kanadische Gesellschaft) - ECPv6.15.20//NONSGML v1.0//EN
CALSCALE:GREGORIAN
METHOD:PUBLISH
X-WR-CALNAME:DKG (Deutsch-Kanadische Gesellschaft)
X-ORIGINAL-URL:https://www.dkg-online.de
X-WR-CALDESC:Veranstaltungen für DKG (Deutsch-Kanadische Gesellschaft)
REFRESH-INTERVAL;VALUE=DURATION:PT1H
X-Robots-Tag:noindex
X-PUBLISHED-TTL:PT1H
BEGIN:VTIMEZONE
TZID:Europe/Berlin
BEGIN:DAYLIGHT
TZOFFSETFROM:+0100
TZOFFSETTO:+0200
TZNAME:CEST
DTSTART:20230326T010000
END:DAYLIGHT
BEGIN:STANDARD
TZOFFSETFROM:+0200
TZOFFSETTO:+0100
TZNAME:CET
DTSTART:20231029T010000
END:STANDARD
BEGIN:DAYLIGHT
TZOFFSETFROM:+0100
TZOFFSETTO:+0200
TZNAME:CEST
DTSTART:20240331T010000
END:DAYLIGHT
BEGIN:STANDARD
TZOFFSETFROM:+0200
TZOFFSETTO:+0100
TZNAME:CET
DTSTART:20241027T010000
END:STANDARD
BEGIN:DAYLIGHT
TZOFFSETFROM:+0100
TZOFFSETTO:+0200
TZNAME:CEST
DTSTART:20250330T010000
END:DAYLIGHT
BEGIN:STANDARD
TZOFFSETFROM:+0200
TZOFFSETTO:+0100
TZNAME:CET
DTSTART:20251026T010000
END:STANDARD
END:VTIMEZONE
BEGIN:VEVENT
DTSTART;TZID=Europe/Berlin:20240120T183000
DTEND;TZID=Europe/Berlin:20240120T213000
DTSTAMP:20260425T135752
CREATED:20240115T150117Z
LAST-MODIFIED:20240115T150117Z
UID:6811-1705775400-1705786200@www.dkg-online.de
SUMMARY:DKG Neujahrsdinner in Bonn
DESCRIPTION:Auch in diesem Jahr lädt die DKG Rheinland herzlich zum Neujahrsdinner im Januar ein. \nWie schon im Vorjahr empfängt uns das Restaurant Löwen in Bonn-Bad Godesberg mit seiner ausgezeichneten Küche\, dem gemütlichen Ambiente und der zentralen Lage am Bad Godesberger Bahnhof. Speziell für uns wird ein rheinisch-kanadisches Menü (3 Gänge) kreiert. Spezielle Ernährungsbedürfnisse werden bei der Anmeldung abgefragt. Wir freuen uns über neue und altbekannte Gesichter\, die Spaß haben\, einen deutsch-kanadischen Abend in geselliger Runde zu verbringen. \nAnmeldung: mit diesem Formular bis 15. Januar 2024\nKosten: Der Kostenbeitrag pro Person von 39\,90€ pro Person bzw. 35\,00€ für Studierende ist unter dem Stichwort „Neujahrsdinner Rheinland 2024“ bei der Anmeldung auf das Konto der DKG zu überweisen. Die Kosten für Getränke sind vor Ort selbst zu bezahlen.
URL:https://www.dkg-online.de/event/dkg-neujahrsdinner-in-bonn/
LOCATION:LÖWEN restaurant bar\, Von-Groote-Platz 1\, Bonn-Bad Godesberg\, 53173
END:VEVENT
END:VCALENDAR