BEGIN:VCALENDAR
VERSION:2.0
PRODID:-//DKG (Deutsch-Kanadische Gesellschaft) - ECPv6.15.20//NONSGML v1.0//EN
CALSCALE:GREGORIAN
METHOD:PUBLISH
X-ORIGINAL-URL:https://www.dkg-online.de
X-WR-CALDESC:Veranstaltungen für DKG (Deutsch-Kanadische Gesellschaft)
REFRESH-INTERVAL;VALUE=DURATION:PT1H
X-Robots-Tag:noindex
X-PUBLISHED-TTL:PT1H
BEGIN:VTIMEZONE
TZID:Europe/Berlin
BEGIN:DAYLIGHT
TZOFFSETFROM:+0100
TZOFFSETTO:+0200
TZNAME:CEST
DTSTART:20230326T010000
END:DAYLIGHT
BEGIN:STANDARD
TZOFFSETFROM:+0200
TZOFFSETTO:+0100
TZNAME:CET
DTSTART:20231029T010000
END:STANDARD
BEGIN:DAYLIGHT
TZOFFSETFROM:+0100
TZOFFSETTO:+0200
TZNAME:CEST
DTSTART:20240331T010000
END:DAYLIGHT
BEGIN:STANDARD
TZOFFSETFROM:+0200
TZOFFSETTO:+0100
TZNAME:CET
DTSTART:20241027T010000
END:STANDARD
BEGIN:DAYLIGHT
TZOFFSETFROM:+0100
TZOFFSETTO:+0200
TZNAME:CEST
DTSTART:20250330T010000
END:DAYLIGHT
BEGIN:STANDARD
TZOFFSETFROM:+0200
TZOFFSETTO:+0100
TZNAME:CET
DTSTART:20251026T010000
END:STANDARD
END:VTIMEZONE
BEGIN:VEVENT
DTSTART;TZID=Europe/Berlin:20240126T190000
DTEND;TZID=Europe/Berlin:20240225T220000
DTSTAMP:20260423T141824
CREATED:20240116T113119Z
LAST-MODIFIED:20240116T113507Z
UID:6820-1706295600-1708898400@www.dkg-online.de
SUMMARY:Cirque du Soleil - KURIOS – Cabinet of Curiosities
DESCRIPTION:Cirque du Soleil – KURIOS – Cabinet of Curiosities \nIn München \nMehr Infos hier.
URL:https://www.dkg-online.de/event/cirque-du-soleil-kurios-cabinet-of-curiosities/
LOCATION:Under the Big Top\, Auf der Theresienwiese
END:VEVENT
BEGIN:VEVENT
DTSTART;TZID=Europe/Berlin:20240215T080000
DTEND;TZID=Europe/Berlin:20240225T170000
DTSTAMP:20260423T141824
CREATED:20240214T101144Z
LAST-MODIFIED:20240214T101144Z
UID:6895-1707984000-1708880400@www.dkg-online.de
SUMMARY:Kanadische Filme bei der Berlinale 2024
DESCRIPTION:Kanada ist wieder bei der Berlinale dabei mit 5 Filmen – \n\nComme le feu von Philipe Lesage\nIntercepted von Oksana Karpovych\nMatt and Mara von Kazik Radwanski\nMé el Aïn von Meryam Joobeur\nSeven Veils von Atom Egoyan\n\nAlle Details\, über den Film\, Uhrzeiten\, Datum hier.
URL:https://www.dkg-online.de/event/kanadische-filme-bei-der-berlinale-2024/
END:VEVENT
BEGIN:VEVENT
DTSTART;TZID=Europe/Berlin:20240216T190000
DTEND;TZID=Europe/Berlin:20240216T220000
DTSTAMP:20260423T141824
CREATED:20240214T154242Z
LAST-MODIFIED:20240214T154242Z
UID:6906-1708110000-1708120800@www.dkg-online.de
SUMMARY:Einladung zur immersiven Ausstellung "Ukraine: Land der Tapferen" - Ukrainische Freie Universität München
DESCRIPTION:Sehr geehrte Damen und Herren\, \ndie Botschaft von Kanada in Deutschland freut sich\, Sie zur immersiven Ausstellung „Ukraine: Land der Tapferen“ am Freitag\, den 16. Februar 2024\, 19:00—22:00 Uhr an der Ukrainischen Freien Universität in München (Am Münchner Tor 1\, 80805 München) einzuladen. \nAnlässlich des zweiten Jahrestages des russischen Angriffskrieges zeigen die Ukrainische Freie Universität und die Botschaft von Kanada die renommierte multimediale Ausstellung „Ukraine: Land der Tapferen“\, begleitet von „Schewtschenko: Die Seele der Ukraine“. Tauchen Sie in „Schewtschenko: Die Seele der Ukraine“ in die bedeutendsten Meisterwerke des ukrainischen Künstlers Taras Schewtschenko ein und erleben Sie die Widerstandsfähigkeit der Ukrainer:innen in „Ukraine: Land der Tapferen“. Nach der Eröffnung laden wir Sie zum informellen Austausch bei einem Glas Wein ein. \nWeitere Informationen zur Ausstellung finden Sie hier: Press_Release_Exhibition_16022024 \nAnmeldungen werden unter folgender E-Mail-Adresse angenommen: sekretariat@ufu-muenchen.de
URL:https://www.dkg-online.de/event/einladung-zur-immersiven-ausstellung-ukraine-land-der-tapferen-ukrainische-freie-universitaet-muenchen/
LOCATION:Ukrainischen Freien Universität\, Am Münchner Tor 1\, München\, 80805
END:VEVENT
END:VCALENDAR