BEGIN:VCALENDAR
VERSION:2.0
PRODID:-//DKG (Deutsch-Kanadische Gesellschaft) - ECPv6.15.20//NONSGML v1.0//EN
CALSCALE:GREGORIAN
METHOD:PUBLISH
X-ORIGINAL-URL:https://www.dkg-online.de
X-WR-CALDESC:Veranstaltungen für DKG (Deutsch-Kanadische Gesellschaft)
REFRESH-INTERVAL;VALUE=DURATION:PT1H
X-Robots-Tag:noindex
X-PUBLISHED-TTL:PT1H
BEGIN:VTIMEZONE
TZID:Europe/Berlin
BEGIN:DAYLIGHT
TZOFFSETFROM:+0100
TZOFFSETTO:+0200
TZNAME:CEST
DTSTART:20230326T010000
END:DAYLIGHT
BEGIN:STANDARD
TZOFFSETFROM:+0200
TZOFFSETTO:+0100
TZNAME:CET
DTSTART:20231029T010000
END:STANDARD
BEGIN:DAYLIGHT
TZOFFSETFROM:+0100
TZOFFSETTO:+0200
TZNAME:CEST
DTSTART:20240331T010000
END:DAYLIGHT
BEGIN:STANDARD
TZOFFSETFROM:+0200
TZOFFSETTO:+0100
TZNAME:CET
DTSTART:20241027T010000
END:STANDARD
BEGIN:DAYLIGHT
TZOFFSETFROM:+0100
TZOFFSETTO:+0200
TZNAME:CEST
DTSTART:20250330T010000
END:DAYLIGHT
BEGIN:STANDARD
TZOFFSETFROM:+0200
TZOFFSETTO:+0100
TZNAME:CET
DTSTART:20251026T010000
END:STANDARD
END:VTIMEZONE
BEGIN:VEVENT
DTSTART;TZID=Europe/Berlin:20240228T180000
DTEND;TZID=Europe/Berlin:20240228T203000
DTSTAMP:20260421T122834
CREATED:20240215T124819Z
LAST-MODIFIED:20240215T124819Z
UID:6917-1709143200-1709152200@www.dkg-online.de
SUMMARY:Black History Month discussion with Canadian author Suzette Mayr
DESCRIPTION:Suzette Mayr in conversation with David Bosold and Tamara Joyette! \n„Join us for a discussion in honour of Black History Month 2024\nwith Giller Prize-winning Canadian author Suzette Mayr\nin conversation with David Bosold\, Managing Director of the\nJohn F. Kennedy Institute’s Graduate School at Freie Universität Berlin\nand Tamara Joyette\, Senior Consultant with Deloitte and\nCanada Relations liaison with the German-Canadian Association (DKG)“ \nAlle Details und Anmeldung hier.
URL:https://www.dkg-online.de/event/black-history-month-discussion-with-canadian-author-suzette-mayr/
LOCATION:Botschaft von Kanada in Berlin\, Leipziger Platz 17\, Berlin\, 10117\, Germany
END:VEVENT
END:VCALENDAR