BEGIN:VCALENDAR
VERSION:2.0
PRODID:-//DKG (Deutsch-Kanadische Gesellschaft) - ECPv6.15.20//NONSGML v1.0//EN
CALSCALE:GREGORIAN
METHOD:PUBLISH
X-ORIGINAL-URL:https://www.dkg-online.de
X-WR-CALDESC:Veranstaltungen für DKG (Deutsch-Kanadische Gesellschaft)
REFRESH-INTERVAL;VALUE=DURATION:PT1H
X-Robots-Tag:noindex
X-PUBLISHED-TTL:PT1H
BEGIN:VTIMEZONE
TZID:Europe/Berlin
BEGIN:DAYLIGHT
TZOFFSETFROM:+0100
TZOFFSETTO:+0200
TZNAME:CEST
DTSTART:20240331T010000
END:DAYLIGHT
BEGIN:STANDARD
TZOFFSETFROM:+0200
TZOFFSETTO:+0100
TZNAME:CET
DTSTART:20241027T010000
END:STANDARD
BEGIN:DAYLIGHT
TZOFFSETFROM:+0100
TZOFFSETTO:+0200
TZNAME:CEST
DTSTART:20250330T010000
END:DAYLIGHT
BEGIN:STANDARD
TZOFFSETFROM:+0200
TZOFFSETTO:+0100
TZNAME:CET
DTSTART:20251026T010000
END:STANDARD
BEGIN:DAYLIGHT
TZOFFSETFROM:+0100
TZOFFSETTO:+0200
TZNAME:CEST
DTSTART:20260329T010000
END:DAYLIGHT
BEGIN:STANDARD
TZOFFSETFROM:+0200
TZOFFSETTO:+0100
TZNAME:CET
DTSTART:20261025T010000
END:STANDARD
END:VTIMEZONE
BEGIN:VEVENT
DTSTART;TZID=Europe/Berlin:20250205T190000
DTEND;TZID=Europe/Berlin:20250205T220000
DTSTAMP:20260425T154309
CREATED:20250204T091648Z
LAST-MODIFIED:20250207T103201Z
UID:7816-1738782000-1738792800@www.dkg-online.de
SUMMARY:DKG Region Sachsen: Jahresauftakt der DKG-Mitglieder in Dresden
DESCRIPTION:Treffen der Mitglieder zum gemütlichen Jahresauftakt im kanadischen Restaurant Ontario\, An der Frauenkirche 3\, 01067 Dresden\nRückmeldung erbeten bis 05.02.25 an sachsen@dkg-online.de
URL:https://www.dkg-online.de/event/auftakttreffen-dkg-mitglieder/
LOCATION:Restaurant Ontario\, An d. Frauenkirche 2\, Dresden\, 01067\, Germany
END:VEVENT
END:VCALENDAR