BEGIN:VCALENDAR
VERSION:2.0
PRODID:-//DKG (Deutsch-Kanadische Gesellschaft) - ECPv6.15.20//NONSGML v1.0//EN
CALSCALE:GREGORIAN
METHOD:PUBLISH
X-ORIGINAL-URL:https://www.dkg-online.de
X-WR-CALDESC:Veranstaltungen für DKG (Deutsch-Kanadische Gesellschaft)
REFRESH-INTERVAL;VALUE=DURATION:PT1H
X-Robots-Tag:noindex
X-PUBLISHED-TTL:PT1H
BEGIN:VTIMEZONE
TZID:Europe/Berlin
BEGIN:DAYLIGHT
TZOFFSETFROM:+0100
TZOFFSETTO:+0200
TZNAME:CEST
DTSTART:20240331T010000
END:DAYLIGHT
BEGIN:STANDARD
TZOFFSETFROM:+0200
TZOFFSETTO:+0100
TZNAME:CET
DTSTART:20241027T010000
END:STANDARD
BEGIN:DAYLIGHT
TZOFFSETFROM:+0100
TZOFFSETTO:+0200
TZNAME:CEST
DTSTART:20250330T010000
END:DAYLIGHT
BEGIN:STANDARD
TZOFFSETFROM:+0200
TZOFFSETTO:+0100
TZNAME:CET
DTSTART:20251026T010000
END:STANDARD
BEGIN:DAYLIGHT
TZOFFSETFROM:+0100
TZOFFSETTO:+0200
TZNAME:CEST
DTSTART:20260329T010000
END:DAYLIGHT
BEGIN:STANDARD
TZOFFSETFROM:+0200
TZOFFSETTO:+0100
TZNAME:CET
DTSTART:20261025T010000
END:STANDARD
END:VTIMEZONE
BEGIN:VEVENT
DTSTART;TZID=Europe/Berlin:20250227T200000
DTEND;TZID=Europe/Berlin:20250227T220000
DTSTAMP:20260421T212818
CREATED:20250210T115649Z
LAST-MODIFIED:20250211T141939Z
UID:7859-1740686400-1740693600@www.dkg-online.de
SUMMARY:DKG in Dettingen: Vancouver und Kanadas Westküste – Multivisionsschau
DESCRIPTION:Multivisionsschau mit Westkanada-Expertin und DKG-Mitglied Verena Schmidt \nVancouver und Kanadas Westküste – wo der Pazifik den Regenwald küsst Vancouver Skyline \n  \nBürgerhaus am Anger – Susanna von Zillenhart-Saal \nMarktplatz 1 \n72581 Dettingen an der Erms \nInformationen\, Abendkasse oder Anmeldung unter www.vhsrt.de \nVerena Schmidt nimmt ihr Publikum mit auf eine bildgewaltige Reise durch die fantastische Insellandschaft von Vancouver Island und Sunshine Coast. Sie bietet spannende Hintergrundinfos über die Region\, lokale Besonderheiten\, Es gibt Tipps zur Tourenvorbereitung und viele persönliche Kniffe aus ihrem großen Reiserepertoire. www.starliteandwild.de/event/westkanada-vancouver-island
URL:https://www.dkg-online.de/event/dkg-baden-wuerttemberg-in-72581-dettingen-vancouver-und-kanadas-westkueste-multivisionsschau/
END:VEVENT
END:VCALENDAR