BEGIN:VCALENDAR
VERSION:2.0
PRODID:-//DKG (Deutsch-Kanadische Gesellschaft) - ECPv6.15.20//NONSGML v1.0//EN
CALSCALE:GREGORIAN
METHOD:PUBLISH
X-ORIGINAL-URL:https://www.dkg-online.de
X-WR-CALDESC:Veranstaltungen für DKG (Deutsch-Kanadische Gesellschaft)
REFRESH-INTERVAL;VALUE=DURATION:PT1H
X-Robots-Tag:noindex
X-PUBLISHED-TTL:PT1H
BEGIN:VTIMEZONE
TZID:Europe/Berlin
BEGIN:DAYLIGHT
TZOFFSETFROM:+0100
TZOFFSETTO:+0200
TZNAME:CEST
DTSTART:20240331T010000
END:DAYLIGHT
BEGIN:STANDARD
TZOFFSETFROM:+0200
TZOFFSETTO:+0100
TZNAME:CET
DTSTART:20241027T010000
END:STANDARD
BEGIN:DAYLIGHT
TZOFFSETFROM:+0100
TZOFFSETTO:+0200
TZNAME:CEST
DTSTART:20250330T010000
END:DAYLIGHT
BEGIN:STANDARD
TZOFFSETFROM:+0200
TZOFFSETTO:+0100
TZNAME:CET
DTSTART:20251026T010000
END:STANDARD
BEGIN:DAYLIGHT
TZOFFSETFROM:+0100
TZOFFSETTO:+0200
TZNAME:CEST
DTSTART:20260329T010000
END:DAYLIGHT
BEGIN:STANDARD
TZOFFSETFROM:+0200
TZOFFSETTO:+0100
TZNAME:CET
DTSTART:20261025T010000
END:STANDARD
END:VTIMEZONE
BEGIN:VEVENT
DTSTART;TZID=Europe/Berlin:20250308T170000
DTEND;TZID=Europe/Berlin:20250308T230000
DTSTAMP:20260423T134521
CREATED:20250224T135128Z
LAST-MODIFIED:20250225T072017Z
UID:7948-1741453200-1741474800@www.dkg-online.de
SUMMARY:DKG Regionalgruppe Baden-Württemberg: Stammtisch mit Quiz-Abend!
DESCRIPTION:Die DKG Regionalgruppe Baden-Württemberg lädt herzlich ein zu einem geselligen Stammtisch mit Quiz-Abend! \n Wann? Samstag\, 8. März 2025\, 17:00 Uhr\n Wo? Sophie’s Brauhaus\, Marienstraße 28\, Stuttgart \nFreut euch auf einen unterhaltsamen Abend mit netten Gesprächen\, neuen Bekanntschaften und einem spannenden Kanada-Quiz! Testet euer Wissen über Kanada! Ob langjähriges Mitglied\, Kanada-Fan oder einfach neugierig – alle sind willkommen! \nAnmeldung: Bitte gebt uns bis zum 3. März 2025 Bescheid\, ob ihr dabei seid.\n Anmeldung per E-Mail an badenwuerttemberg@dkg-online.de \n Viele Grüße Euer Orga-Team BaWü \nNorbert Schmitz und Tamara Joyette \n  \n—————————————————————————————————————– \n  \nThe DKG Regional Group Baden-Württemberg cordially invites you to a social get-together and quiz night! \n When? Saturday\, March 8\, 2025\, 5:00 p.m.\n Where? Sophie’s Brauhaus\, Marienstraße 28\, Stuttgart \nLook forward to an entertaining evening with nice conversations\, new acquaintances and an exciting Canada quiz! Test your knowledge about Canada! Whether you are a long-standing member\, a Canada fan or just curious – everyone is welcome! \nRegistration: Please let us know by March 3\, 2025 if you will be joining us.\n Registration by email to badenwuerttemberg@dkg-online.de \nKind regards\, your Orga-Team BaWü\, \nNorbert Schmitz and Tamara Joyette
URL:https://www.dkg-online.de/event/dkg-regionalgruppe-baden-wuerttemberg-stammtisch-mit-quiz-abend/
LOCATION:Sophie’s Brauhaus Stuttgart\, Marienstraße 28\, Stuttgart\, 70178\, Germany
END:VEVENT
END:VCALENDAR