BEGIN:VCALENDAR
VERSION:2.0
PRODID:-//DKG (Deutsch-Kanadische Gesellschaft) - ECPv6.15.20//NONSGML v1.0//EN
CALSCALE:GREGORIAN
METHOD:PUBLISH
X-WR-CALNAME:DKG (Deutsch-Kanadische Gesellschaft)
X-ORIGINAL-URL:https://www.dkg-online.de
X-WR-CALDESC:Veranstaltungen für DKG (Deutsch-Kanadische Gesellschaft)
REFRESH-INTERVAL;VALUE=DURATION:PT1H
X-Robots-Tag:noindex
X-PUBLISHED-TTL:PT1H
BEGIN:VTIMEZONE
TZID:Europe/Berlin
BEGIN:DAYLIGHT
TZOFFSETFROM:+0100
TZOFFSETTO:+0200
TZNAME:CEST
DTSTART:20240331T010000
END:DAYLIGHT
BEGIN:STANDARD
TZOFFSETFROM:+0200
TZOFFSETTO:+0100
TZNAME:CET
DTSTART:20241027T010000
END:STANDARD
BEGIN:DAYLIGHT
TZOFFSETFROM:+0100
TZOFFSETTO:+0200
TZNAME:CEST
DTSTART:20250330T010000
END:DAYLIGHT
BEGIN:STANDARD
TZOFFSETFROM:+0200
TZOFFSETTO:+0100
TZNAME:CET
DTSTART:20251026T010000
END:STANDARD
BEGIN:DAYLIGHT
TZOFFSETFROM:+0100
TZOFFSETTO:+0200
TZNAME:CEST
DTSTART:20260329T010000
END:DAYLIGHT
BEGIN:STANDARD
TZOFFSETFROM:+0200
TZOFFSETTO:+0100
TZNAME:CET
DTSTART:20261025T010000
END:STANDARD
END:VTIMEZONE
BEGIN:VEVENT
DTSTART;TZID=Europe/Berlin:20250611T180000
DTEND;TZID=Europe/Berlin:20250611T200000
DTSTAMP:20260423T165133
CREATED:20250515T115329Z
LAST-MODIFIED:20250515T121535Z
UID:8249-1749664800-1749672000@www.dkg-online.de
SUMMARY:DKG Sachsen in Reichenbach im Vogtland: Westkanada-Expertin und DKG-Mitglied Verena Schmidt: Vortrag mit Bildern\, Musik und wertvollen Impulsen zum Aufstehen\, Weitermachen und Handeln ist eine ideale »Motivationsdosis«
DESCRIPTION:Westkanada-Expertin und DKG-Mitglied Verena Schmidt: Vortrag mit Bildern\, Musik und wertvollen Impulsen zum Aufstehen\, Weitermachen und Handeln ist eine ideale »Motivationsdosis«. \nDieser lebendige Vortrag erzählt was passiert\, wenn sich eine Reiseleiterin nach dem Tod ihres Partners gemeinsam mit ihrer Tochter zu einem intensiven Wanderführer-Projekt aufmacht\, um die wilde Gebirgslandschaft im Westen Kanadas in zwei Sommern zu erkunden. \nwww.starliteandwild.de/event/zwei-sommer-in-den-rockies \nDatum: 11 Juni\nZeit: 18:00 – 20:00\nVeranstalter: Vogtländische Buchhandlung Reichenbach\nE-Mail kontakt@vobuch.de \nVeranstaltungsort:\n„Kinderkaufhaus“ Reichenbach\nAm Graben 2\nReichenbach im Vogtland\n08468 Germany
URL:https://www.dkg-online.de/event/dkg-sachsen-in-reichenbach-im-vogtland-westkanada-expertin-und-dkg-mitglied-verena-schmidt-vortrag-mit-bildern-musik-und-wertvollen-impulsen-zum-aufstehen-weitermachen-und-handeln-ist-eine-ideale/
LOCATION:Kinderkaufhaus Reichenbach\, Am Graben 2\, Reichenbach im Vogtland\, 08468
END:VEVENT
END:VCALENDAR