BEGIN:VCALENDAR
VERSION:2.0
PRODID:-//DKG (Deutsch-Kanadische Gesellschaft) - ECPv6.15.20//NONSGML v1.0//EN
CALSCALE:GREGORIAN
METHOD:PUBLISH
X-WR-CALNAME:DKG (Deutsch-Kanadische Gesellschaft)
X-ORIGINAL-URL:https://www.dkg-online.de
X-WR-CALDESC:Veranstaltungen für DKG (Deutsch-Kanadische Gesellschaft)
REFRESH-INTERVAL;VALUE=DURATION:PT1H
X-Robots-Tag:noindex
X-PUBLISHED-TTL:PT1H
BEGIN:VTIMEZONE
TZID:Europe/Berlin
BEGIN:DAYLIGHT
TZOFFSETFROM:+0100
TZOFFSETTO:+0200
TZNAME:CEST
DTSTART:20240331T010000
END:DAYLIGHT
BEGIN:STANDARD
TZOFFSETFROM:+0200
TZOFFSETTO:+0100
TZNAME:CET
DTSTART:20241027T010000
END:STANDARD
BEGIN:DAYLIGHT
TZOFFSETFROM:+0100
TZOFFSETTO:+0200
TZNAME:CEST
DTSTART:20250330T010000
END:DAYLIGHT
BEGIN:STANDARD
TZOFFSETFROM:+0200
TZOFFSETTO:+0100
TZNAME:CET
DTSTART:20251026T010000
END:STANDARD
BEGIN:DAYLIGHT
TZOFFSETFROM:+0100
TZOFFSETTO:+0200
TZNAME:CEST
DTSTART:20260329T010000
END:DAYLIGHT
BEGIN:STANDARD
TZOFFSETFROM:+0200
TZOFFSETTO:+0100
TZNAME:CET
DTSTART:20261025T010000
END:STANDARD
END:VTIMEZONE
BEGIN:VEVENT
DTSTART;VALUE=DATE:20250614
DTEND;VALUE=DATE:20250616
DTSTAMP:20260423T165133
CREATED:20250515T123044Z
LAST-MODIFIED:20250515T123044Z
UID:8259-1749859200-1750031999@www.dkg-online.de
SUMMARY:Deutsche Jugendmeisterschaft im Lacrosse 2025
DESCRIPTION:Datum: 14. – 15. Juni 2025\nOrt: Gelände des DSC-99\, Diepenstraße 99\, 40625 Düsseldorf \nSportliche Highlights:\nErleben Sie spannende Spiele und packende Wettkämpfe! Insgesamt nehmen ca. 25 Teams aus ganz Deutschland in den Altersklassen U12 und U16 teil. Die Spielerinnen und Spieler sind zwischen 6 und 16 Jahre jung. Seien Sie dabei und unterstützen Sie die jungen Talente im Lacrosse-Sport! \nBesuchen Sie unseren Infostand:\nDie Deutsch-Kanadische Gesellschaft e.V. ist stolzer offizieller Partner der Deutschen Jugendmeisterschaft im Lacrosse und wird mit einem Informationsstand vertreten sein. Besuchen Sie uns und kommen Sie mit uns ins Gespräch über Kanada\, Work & Travel und Internship! \nÖffnungszeiten: \n\nSamstag: 9:30 Uhr – 18:00 Uhr\nSonntag: 9:30 Uhr – 15:00 Uhr\n\nAnreise zum DSC-99:\nMit der S-Bahn: \n\nDüsseldorf-Gerresheim S: Erreichbar mit den Linien S8 und S28.\nDüsseldorf-Rath S: Erreichbar mit der Linie S6.\nDüsseldorf-Unterrath S: Erreichbar mit den Linien S1 und S11.\n\nMit dem Bus: \n\nSteigen Sie an einem dieser S-Bahnhöfe in die Buslinie 730 um und fahren Sie bis zur Haltestelle Josef-Neuberger-Straße. Von dort sind es nur wenige Gehminuten bis zum Veranstaltungsort.\n\nWeitere Informationen finden Sie auf der Webseite des Veranstalters: djm-lacrosse25.de \nWir freuen uns auf Ihr Kommen!\n\n \nKontakt: Martin Gutsch (mgutsch@dkg-online.de) \n————————————————————————————————————— \nDate: June 14 – 15\, 2025\nLocation: DSC-99 site\, Diepenstraße 99\, 40625 Düsseldorf \nSporting highlights:\nExperience exciting games and thrilling competitions! Approximately 25 teams from all over Germany will take part in the U12 and U16 age groups. The players are between 6 and 16 years young. Join us and support the young lacrosse talents! \nVisit our information booth:\nThe German-Canadian Society is a proud official partner of the German Youth Lacrosse Championship and will be present with an information booth. Visit us and chat with us about Canada\, Work & Travel and Internships!  \nOpening hours: \n\nSaturday: 9:30am – 6:00pm\nSunday: 9:30 a.m. – 3:00 p.m.\n\nGetting to DSC-99:\nBy S-Bahn: \n\nDüsseldorf-Gerresheim S: Accessible via lines S8 and S28.\nDüsseldorf-Rath S: Accessible via line S6.\nDüsseldorf-Unterrath S: Accessible via lines S1 and S11.\n\nBy bus: \n\nChange to bus line 730 at one of these S-Bahn stations and get off at the Josef-Neuberger-Straße stop. From there\, it is only a few minutes‘ walk to the venue.\n\nFor more information\, please visit the organizer’s website: djm-lacrosse25.de \nWe look forward to seeing you! \n\n \nContact: Martin Gutsch (mgutsch@dkg-online.de) \n————————————————————————————————————— \n\nDate : 14 – 15 juin 2025\nLieu : site DSC-99\, Diepenstraße 99\, 40625 Düsseldorf \nFaits saillants sportifs : \nVivez des matchs passionnants et des compétitions palpitantes ! Environs 25 équipes de toute l’Allemagne participeront aux catégories d’âge U12 et U16. Les joueurs ont entre 6 et 16 ans. Venez soutenir les jeunes talents du Lacrosse ! \nVisitez notre stand d’information :\nLa Société germano-canadienne est fière d’être un partenaire officiel du Championnat allemand de Lacrosse pour les jeunes et sera présente avec un stand d’information. Venez nous voir et discutez avec nous du Canada\, du travail\, des voyages et des stages !  \nHeures d’ouverture : \n\nSamedi : 9h30 – 18h00\nDimanche : 9 h 30 – 15 h 00\n\nSe rendre à la DSC-99 :\nEn S-Bahn : \n\nDüsseldorf-Gerresheim S : Accessible par les lignes S8 et S28.\nDüsseldorf-Rath S : Accessible par la ligne S6.\nDüsseldorf-Unterrath S : accessible par les lignes S1 et S11.\n\nEn bus : \n\nPrenez la ligne de bus 730 à l’une de ces stations de S-Bahn et descendez à l’arrêt Josef-Neuberger-Straße. De là\, il n’y a que quelques minutes à pied jusqu’au lieu de l’événement.\n\nPour plus d’informations\, veuillez consulter le site de l’organisateur : https://djm-lacrosse25.de \nAu plaisir de vous voir ! \n\n \nPersonne-ressource : Martin Gutsch (mgutsch@dkg-online.de)
URL:https://www.dkg-online.de/event/deutsche-jugendmeisterschaft-im-lacrosse-2025/
LOCATION:Gelände des DSC-99\, Diepenstraße 99\, Düsseldorf\, 40625
ATTACH;FMTTYPE=image/png:https://www.dkg-online.de/wp-content/uploads/2025/05/Logo-Deutsche-Jugendmeisterschaft-Lacrosse-2025.png
END:VEVENT
END:VCALENDAR