BEGIN:VCALENDAR
VERSION:2.0
PRODID:-//DKG (Deutsch-Kanadische Gesellschaft) - ECPv6.15.20//NONSGML v1.0//EN
CALSCALE:GREGORIAN
METHOD:PUBLISH
X-WR-CALNAME:DKG (Deutsch-Kanadische Gesellschaft)
X-ORIGINAL-URL:https://www.dkg-online.de
X-WR-CALDESC:Veranstaltungen für DKG (Deutsch-Kanadische Gesellschaft)
REFRESH-INTERVAL;VALUE=DURATION:PT1H
X-Robots-Tag:noindex
X-PUBLISHED-TTL:PT1H
BEGIN:VTIMEZONE
TZID:Europe/Berlin
BEGIN:DAYLIGHT
TZOFFSETFROM:+0100
TZOFFSETTO:+0200
TZNAME:CEST
DTSTART:20240331T010000
END:DAYLIGHT
BEGIN:STANDARD
TZOFFSETFROM:+0200
TZOFFSETTO:+0100
TZNAME:CET
DTSTART:20241027T010000
END:STANDARD
BEGIN:DAYLIGHT
TZOFFSETFROM:+0100
TZOFFSETTO:+0200
TZNAME:CEST
DTSTART:20250330T010000
END:DAYLIGHT
BEGIN:STANDARD
TZOFFSETFROM:+0200
TZOFFSETTO:+0100
TZNAME:CET
DTSTART:20251026T010000
END:STANDARD
BEGIN:DAYLIGHT
TZOFFSETFROM:+0100
TZOFFSETTO:+0200
TZNAME:CEST
DTSTART:20260329T010000
END:DAYLIGHT
BEGIN:STANDARD
TZOFFSETFROM:+0200
TZOFFSETTO:+0100
TZNAME:CET
DTSTART:20261025T010000
END:STANDARD
END:VTIMEZONE
BEGIN:VEVENT
DTSTART;VALUE=DATE:20250704
DTEND;VALUE=DATE:20250707
DTSTAMP:20260423T165101
CREATED:20250204T090549Z
LAST-MODIFIED:20250204T175600Z
UID:7810-1751587200-1751846399@www.dkg-online.de
SUMMARY:Kanadisches Wochenende 2025 in Bonn
DESCRIPTION:Liebe DKG-Mitglieder\, liebe Kanada-Freund:innen\, \nMarkiert Euch jetzt schon den 4.-6. Juli 2025 im Kalender\, um das DKG-Jahrestreffen 2025 nicht zu verpassen. Wir laden Euch nach Bonn ein\, die historisch- und kulturträchtige Perle des Rheinlands\, die uns ein ganz besonderes deutsch-kanadisches Wochenende bieten wird. \nMacht Euch bereit für ein einzigartiges Programm\, das Euch zum Austausch anregen und Euer Kanada-Herz höher schlagen lassen wird. Den DKG-Festakt feiern wir mit Euch am Samstagabend im Universitätsclub Bonn. Anschließend lassen wir den Abend mit einer Tour durch die gemütlichen Kneipen der Altstadt rheinisch-gesellig ausklingen. Für das lockere Get Together am Freitagabend und das Programm am Sonntag könnt Ihr Euch auf kulturellen Reichtum und sommerliche Momente freuen. \nUnd was wäre die DKG ohne ihr Work & Travel Programm? Freut Euch auf ein paar Überraschungen zum 60-jährigen Jubiläum\, das wir gemeinsam zelebrieren werden. \nWir freuen uns auf Euch am 4.\, 5. und 6. Juli 2025 in Bonn. Bis dahin arbeiten wir auf Hochtouren an den Programmdetails\, die in Kürze folgen werden. Ein wichtiges Detail haben wir schon für Euch geklärt: Infos zum Hotelkontingent findet ihr unten. Die Übernachtung könnt ihr bis spätestens sechs Wochen vor dem Jahrestreffen buchen – first come\, first serve. \n  \nWeitere Informationen unter: Kanadisches Wochenende 2025 \n  \nLiebe Grüße \nEuer Regionalteam Rheinland – Johanna\, Aska\, Leonie und Michelle
URL:https://www.dkg-online.de/event/kanadisches-wochenende-2025/
END:VEVENT
END:VCALENDAR