BEGIN:VCALENDAR
VERSION:2.0
PRODID:-//DKG (Deutsch-Kanadische Gesellschaft) - ECPv6.15.20//NONSGML v1.0//EN
CALSCALE:GREGORIAN
METHOD:PUBLISH
X-WR-CALNAME:DKG (Deutsch-Kanadische Gesellschaft)
X-ORIGINAL-URL:https://www.dkg-online.de
X-WR-CALDESC:Veranstaltungen für DKG (Deutsch-Kanadische Gesellschaft)
REFRESH-INTERVAL;VALUE=DURATION:PT1H
X-Robots-Tag:noindex
X-PUBLISHED-TTL:PT1H
BEGIN:VTIMEZONE
TZID:Europe/Berlin
BEGIN:DAYLIGHT
TZOFFSETFROM:+0100
TZOFFSETTO:+0200
TZNAME:CEST
DTSTART:20190331T010000
END:DAYLIGHT
BEGIN:STANDARD
TZOFFSETFROM:+0200
TZOFFSETTO:+0100
TZNAME:CET
DTSTART:20191027T010000
END:STANDARD
BEGIN:DAYLIGHT
TZOFFSETFROM:+0100
TZOFFSETTO:+0200
TZNAME:CEST
DTSTART:20200329T010000
END:DAYLIGHT
BEGIN:STANDARD
TZOFFSETFROM:+0200
TZOFFSETTO:+0100
TZNAME:CET
DTSTART:20201025T010000
END:STANDARD
BEGIN:DAYLIGHT
TZOFFSETFROM:+0100
TZOFFSETTO:+0200
TZNAME:CEST
DTSTART:20210328T010000
END:DAYLIGHT
BEGIN:STANDARD
TZOFFSETFROM:+0200
TZOFFSETTO:+0100
TZNAME:CET
DTSTART:20211031T010000
END:STANDARD
END:VTIMEZONE
BEGIN:VEVENT
DTSTART;TZID=Europe/Berlin:20201210T183000
DTEND;TZID=Europe/Berlin:20201210T203000
DTSTAMP:20260425T200200
CREATED:20201104T192952Z
LAST-MODIFIED:20201104T192952Z
UID:3435-1607625000-1607632200@www.dkg-online.de
SUMMARY:YTL LEADERS LOUNGE - December
DESCRIPTION:YTL LEADERS LOUNGE – December \n6.30 pm (CEST) / 12.30 pm (EDT) / 9.30 am (PDT) \nIn our last Leaders Lounge for 2020\, we will host Robert Hardt\, former CEO of Siemens Canada and former managing partner of Next47\, Siemens startup incubator. While you wait for December to arrive\, you can follow @Robert_Hardt on Twitter.\nTo register for the event\, please use this link.
URL:https://www.dkg-online.de/event/ytl-leaders-lounge-december/
LOCATION:At home
END:VEVENT
BEGIN:VEVENT
DTSTART;TZID=Europe/Berlin:20201218T193000
DTEND;TZID=Europe/Berlin:20201218T223000
DTSTAMP:20260425T200200
CREATED:20201130T103743Z
LAST-MODIFIED:20201130T103743Z
UID:3480-1608319800-1608330600@www.dkg-online.de
SUMMARY:DKG Virtual Canadian Christmas Celebrations
DESCRIPTION:Dear Canadians\, dear Canada Enthusiasts\, dear friends\, \non behalf of the German-Canadian Association (DKG) and the Canadian Club of Belgium (CCB) we would like to invite you to our \nVirtual Canadian Christmas Celebrations on December 18th\, 2020 \nThis time we have a great program for all of you. We are so proud to welcome a special guest: Christina Martin\, a Canadian Singer and Songwriter from Nova Scotia\, Canada. \nWe will meet at 7:30 pm CET (Bruxelles\, Berlin) – or 2:30 pm AST (Halifax)\, 1:30 pm EST (Montréal\, Toronto) and 10:30 am PST (Vancouver). \nIf this seems to be of interest to you\, please register as soon as possible. We also have a fun contest waiting for you. You will find more details in our confirmation e-mail. \nAfter the approval of your registration\, you will immediately receive a confirmation e-mail with the login details as well as an eggnog recipe. \nAnd if you miss your families or best friends in Canada\, please share the registration link with them. They are of course warmly welcomed. \nWe ask for your understanding that during speeches and audio presentations we will switch your microphone to mute. \nWe are looking forward to seeing you on Friday\, December 18th\, 2020 at 7:30 pm CET. \nMartin Gutsch\nVorstand / Member of Executive Board \nhttps://www.dkg-online.de/wp-content/uploads/2020/11/Promo-Clip_Christina-Martin-Dec-18.m4v
URL:https://www.dkg-online.de/event/dkg-virtual-canadian-christmas-celebrations/
LOCATION:Zuhause
END:VEVENT
END:VCALENDAR