BEGIN:VCALENDAR
VERSION:2.0
PRODID:-//DKG (Deutsch-Kanadische Gesellschaft) - ECPv6.15.20//NONSGML v1.0//EN
CALSCALE:GREGORIAN
METHOD:PUBLISH
X-WR-CALNAME:DKG (Deutsch-Kanadische Gesellschaft)
X-ORIGINAL-URL:https://www.dkg-online.de
X-WR-CALDESC:Veranstaltungen für DKG (Deutsch-Kanadische Gesellschaft)
REFRESH-INTERVAL;VALUE=DURATION:PT1H
X-Robots-Tag:noindex
X-PUBLISHED-TTL:PT1H
BEGIN:VTIMEZONE
TZID:Europe/Berlin
BEGIN:DAYLIGHT
TZOFFSETFROM:+0100
TZOFFSETTO:+0200
TZNAME:CEST
DTSTART:20200329T010000
END:DAYLIGHT
BEGIN:STANDARD
TZOFFSETFROM:+0200
TZOFFSETTO:+0100
TZNAME:CET
DTSTART:20201025T010000
END:STANDARD
BEGIN:DAYLIGHT
TZOFFSETFROM:+0100
TZOFFSETTO:+0200
TZNAME:CEST
DTSTART:20210328T010000
END:DAYLIGHT
BEGIN:STANDARD
TZOFFSETFROM:+0200
TZOFFSETTO:+0100
TZNAME:CET
DTSTART:20211031T010000
END:STANDARD
BEGIN:DAYLIGHT
TZOFFSETFROM:+0100
TZOFFSETTO:+0200
TZNAME:CEST
DTSTART:20220327T010000
END:DAYLIGHT
BEGIN:STANDARD
TZOFFSETFROM:+0200
TZOFFSETTO:+0100
TZNAME:CET
DTSTART:20221030T010000
END:STANDARD
END:VTIMEZONE
BEGIN:VEVENT
DTSTART;TZID=Europe/Berlin:20210427T080000
DTEND;TZID=Europe/Berlin:20210502T170000
DTSTAMP:20260425T182134
CREATED:20210420T063138Z
LAST-MODIFIED:20210420T063138Z
UID:3776-1619510400-1619974800@www.dkg-online.de
SUMMARY:Kanada zu Gast bei dem Lichter Filmfest
DESCRIPTION:Zwei Filme aus Kanada werden bei dem Lichter Filmfest präsentiert: \nFlashwood\nIn Flashwood wird die Entwicklung einer Gruppe von Jugendlichen aus der Montrealer Vorstadt über sieben Jahre begleitet. \nSouterrain\nMaxime\, ein Minenarbeiter in Québec\, setzt sein eigenes Leben aufs Spiel\, um das seiner verschütteten Kollegen zu retten. \nAlle Details here. \n 
URL:https://www.dkg-online.de/event/kanada-zu-gast-bei-dem-lichter-filmfest/
LOCATION:Zuhause
END:VEVENT
BEGIN:VEVENT
DTSTART;TZID=Europe/Berlin:20210505T100000
DTEND;TZID=Europe/Berlin:20210523T200000
DTSTAMP:20260425T182134
CREATED:20210407T142055Z
LAST-MODIFIED:20210407T142055Z
UID:3757-1620208800-1621800000@www.dkg-online.de
SUMMARY:Kanada zu Gast bei DOK.fest München 5.-23. Mai 2021
DESCRIPTION:©dok.fest münchen\nDOK.guest Kanada\nLand der Freiheit. Land der Widersprüche. \nDa Kanada Gast bei DOK.fest München 2021 ist\, werden sieben Dokumentarfilme aus und über „The Great North“ präsentiert: \nJE M’APPELLE HUMAIN\nKanada 2020\, Kim O’Bomsawin\, 78 Min. \nJUDY VERSUS CAPITALISM\nKanada 2020\, Mike Hoolboom\, 63 Min. \nKÍMMAPIIYIPITSSINI: THE MEANING OF EMPATHY\nKanada 2021\, Elle-Máijá Tailfeathers\, 124 Min. \nLES LIBRES\nKanada 2020\, Nicolas Lévesque\, 94 Min. \nNO VISIBLE TRAUMA\nKanada 2020\, Marc Serpa Francoeur\, Robinder Uppal\, 98 Min. \nTHE SILENCE\nKanada 2020\, Renée Blanchar\, 106 Min. \nTHERE’S NO PLACE LIKE THIS PLACE\, ANYPLACE\nKanada 2020\, Lulu Wei\, 76 Min. \nAlle Details auf die Webseite des DOK.fest.
URL:https://www.dkg-online.de/event/kanada-zu-gast-bei-dok-fest-muenchen-5-23-mai-2021/
LOCATION:Zuhause
END:VEVENT
BEGIN:VEVENT
DTSTART;TZID=Europe/Berlin:20210519T193000
DTEND;TZID=Europe/Berlin:20210519T213000
DTSTAMP:20260425T182134
CREATED:20210430T120737Z
LAST-MODIFIED:20210430T120737Z
UID:3819-1621452600-1621459800@www.dkg-online.de
SUMMARY:Online-Lesung mit Louise Dupré und Ursula Mathis-Moser
DESCRIPTION:Wir freuen uns sehr\, als DKG-Regionalgruppe Oberbayern gemeinsam mit der Vertretung der Regierung von Québec in München ein besonderes literarisches Event online anbieten zu können. Uns ist es ein Anliegen\, auch das französischsprachige Kanada zu Wort kommen zu lassen. Deshalb sind wir sehr glücklich\, die herausragende Québecer Schriftstellerin Louise Dupré und ihre exzellente Übersetzerin Ursula Mathis-Moser für eine gemeinsame Lesung gewonnen zu haben. Sie werden abwechselnd in Französisch und Deutsch aus Louise Duprés Roman Tout comme elle (2006) / Ganz wie sie (2020) und aus einem neueren Roman lesen\, der zur Zeit von Ursula Mathis-Moser übersetzt wird. Beide stehen im Anschluss an die Lesung auch für Fragen zur Verfügung. \nLocation: Zu Hause.\nAnmeldung: Bitte melden Sie sich mit einem Klick auf diesen Link an. Sie erhalten dann umgehend die Einwahldaten zum Event. Wir freuen uns auf einen ganz besonderen Abend der Québecer Literatur.
URL:https://www.dkg-online.de/event/online-lesung-mit-louise-dupre-und-ursula-mathis-moser/
LOCATION:Zuhause
END:VEVENT
BEGIN:VEVENT
DTSTART;TZID=Europe/Berlin:20210527T183000
DTEND;TZID=Europe/Berlin:20210527T203000
DTSTAMP:20260425T182134
CREATED:20210416T103626Z
LAST-MODIFIED:20210416T103626Z
UID:3769-1622140200-1622147400@www.dkg-online.de
SUMMARY:YTL LEADERS LOUNGE with Abdul-Rehman Malik
DESCRIPTION:YTL LEADERS LOUNGE\nwith Abdul-Rehman Malik\n– Storytellers\, storytelling\, and how we can/shall challenge the current narratives – \nat 6.30 pm (CEST) / 12.30 pm (EDT) / 9.30 am (PDT) \nWe are excited for our May Leaders Lounge with Abdul-Rehmann Malik. He is an award winning journalist\, educator and cultural organizer. In June 2019 he was appointed Lecturer and Associate Research Scholar at the Yale Divinity School. His work has spanned the UK\, United States\, Indonesia\, Pakistan\, Sudan\, Mali\, Morocco\, Singapore\, Canada and Malaysia. Abdul-Rehman is a frequent journalist for BBC Radio\, offering contemporary perspectives on contemporary spirituality. With us\, he will discuss how to challenge current narratives.\nTo learn more about Abdul-Rehmann\, you can follow him on twitter.\nSave the date and register for the event here or by visiting our YTL Leaders Lounge website.
URL:https://www.dkg-online.de/event/ytl-leaders-lounge-with-abdul-rehman-malik/
LOCATION:At home
END:VEVENT
BEGIN:VEVENT
DTSTART;TZID=Europe/Berlin:20210528T193000
DTEND;TZID=Europe/Berlin:20210528T223000
DTSTAMP:20260425T182134
CREATED:20210430T121039Z
LAST-MODIFIED:20210505T084022Z
UID:3821-1622230200-1622241000@www.dkg-online.de
SUMMARY:Virtual Canadian Pub Night #5 - Food & Beverage Edition
DESCRIPTION:On behalf of the German-Canadian Association (DKG)\, the Canadian Club of Belgium (CCB) and Canadians in Eindhoven we thank you so much for joining our „Virtual Canadian Pub Night Series“. We will meet traditionally at 7:30 pm CET (Bruxelles\, Berlin) – or 2:30 pm AST (Halifax)\, 1:30 pm EST (Montréal\, Toronto) and 11:30 am MST (Calgary) 10:30 am PST (Vancouver)\, this time with a focus on Canadian Food & Beverages. We are looking forward to seeing you! \nLocation: At home.\nRegistration: Please register using this link and feel free to share the „registration link“ with your friends and families in Canada to stay connected.
URL:https://www.dkg-online.de/event/virtual-canadian-pub-night-5-food-beverage-edition/
LOCATION:Zuhause
END:VEVENT
END:VCALENDAR