BEGIN:VCALENDAR
VERSION:2.0
PRODID:-//DKG (Deutsch-Kanadische Gesellschaft) - ECPv6.15.20//NONSGML v1.0//EN
CALSCALE:GREGORIAN
METHOD:PUBLISH
X-ORIGINAL-URL:https://www.dkg-online.de
X-WR-CALDESC:Veranstaltungen für DKG (Deutsch-Kanadische Gesellschaft)
REFRESH-INTERVAL;VALUE=DURATION:PT1H
X-Robots-Tag:noindex
X-PUBLISHED-TTL:PT1H
BEGIN:VTIMEZONE
TZID:Europe/Berlin
BEGIN:DAYLIGHT
TZOFFSETFROM:+0100
TZOFFSETTO:+0200
TZNAME:CEST
DTSTART:20230326T010000
END:DAYLIGHT
BEGIN:STANDARD
TZOFFSETFROM:+0200
TZOFFSETTO:+0100
TZNAME:CET
DTSTART:20231029T010000
END:STANDARD
BEGIN:DAYLIGHT
TZOFFSETFROM:+0100
TZOFFSETTO:+0200
TZNAME:CEST
DTSTART:20240331T010000
END:DAYLIGHT
BEGIN:STANDARD
TZOFFSETFROM:+0200
TZOFFSETTO:+0100
TZNAME:CET
DTSTART:20241027T010000
END:STANDARD
BEGIN:DAYLIGHT
TZOFFSETFROM:+0100
TZOFFSETTO:+0200
TZNAME:CEST
DTSTART:20250330T010000
END:DAYLIGHT
BEGIN:STANDARD
TZOFFSETFROM:+0200
TZOFFSETTO:+0100
TZNAME:CET
DTSTART:20251026T010000
END:STANDARD
END:VTIMEZONE
BEGIN:VEVENT
DTSTART;TZID=Europe/Berlin:20240120T183000
DTEND;TZID=Europe/Berlin:20240120T213000
DTSTAMP:20260425T123056
CREATED:20240115T150117Z
LAST-MODIFIED:20240115T150117Z
UID:6811-1705775400-1705786200@www.dkg-online.de
SUMMARY:DKG Neujahrsdinner in Bonn
DESCRIPTION:Auch in diesem Jahr lädt die DKG Rheinland herzlich zum Neujahrsdinner im Januar ein. \nWie schon im Vorjahr empfängt uns das Restaurant Löwen in Bonn-Bad Godesberg mit seiner ausgezeichneten Küche\, dem gemütlichen Ambiente und der zentralen Lage am Bad Godesberger Bahnhof. Speziell für uns wird ein rheinisch-kanadisches Menü (3 Gänge) kreiert. Spezielle Ernährungsbedürfnisse werden bei der Anmeldung abgefragt. Wir freuen uns über neue und altbekannte Gesichter\, die Spaß haben\, einen deutsch-kanadischen Abend in geselliger Runde zu verbringen. \nAnmeldung: mit diesem Formular bis 15. Januar 2024\nKosten: Der Kostenbeitrag pro Person von 39\,90€ pro Person bzw. 35\,00€ für Studierende ist unter dem Stichwort „Neujahrsdinner Rheinland 2024“ bei der Anmeldung auf das Konto der DKG zu überweisen. Die Kosten für Getränke sind vor Ort selbst zu bezahlen.
URL:https://www.dkg-online.de/event/dkg-neujahrsdinner-in-bonn/
LOCATION:LÖWEN restaurant bar\, Von-Groote-Platz 1\, Bonn-Bad Godesberg\, 53173
END:VEVENT
BEGIN:VEVENT
DTSTART;TZID=Europe/Berlin:20240123T170000
DTEND;TZID=Europe/Berlin:20240124T213000
DTSTAMP:20260425T123056
CREATED:20240115T155128Z
LAST-MODIFIED:20240115T155250Z
UID:6816-1706029200-1706131800@www.dkg-online.de
SUMMARY:WO BIST DU LICHT!  Hommage à Claude Vivier - Konzerte\, Roundtable und Vortrag
DESCRIPTION:WO BIST DU LICHT! \nHommage à Claude Vivier – Konzerte\, Roundtable und Vortrag \n„Ich sage abermals\, dass das\, was mich in Viviers Musik am meisten verblüfft hat\, sein ganz und gar originales musikalisches Genie war. Er war einzigartig trotz der verschiedenen Einflüsse\, und er hat sich besser als irgendwer sonst darauf verstanden\, seine vielfarbige Klangphantasie zu verwirklichen.“ (György Ligeti 1991) \nNachdem die ursprünglich für den 21. und 22. November 2023 vorgesehene Veranstaltung wegen eines Trauerfalls teilweise verschoben werden musste\, freuen wir uns nun umso mehr Ihnen – mit der Bitte um Beachtung der veränderten Programmreihenfolge – den neuen Termin bekannt zu geben. Das Institut für Musikwissenschaft der LMU lädt in Zusammenarbeit mit der Universitätskirche St. Ludwig und der Hochschule für Musik und Theater München zu einer zweitägigen Hommage an Claude Vivier ein\, bei der seine Musik in den Kontext seiner und unserer eigenen Zeit gestellt wird. \nDas Werk des kanadischen Komponisten Claude Vivier (1948-1983)\, dessen 75. Geburtstag und 40. Todestag 2023 gedacht wurde\, bildet in jeder Hinsicht eine Ausnahme in der an besonderen Persönlichkeiten und Kompositionen so reichen Musikgeschichte des 20. Jahrhunderts. Viviers unzeitiger\, durch ein Gewaltverbrechen erzwungener Tod im Alter von nur 34 Jahren zerschnitt auf brutale Weise eine künstlerische Entwicklung\, die zum Erstaunlichsten gehört\, was die Musik der zweiten Jahrhunderthälfte hervorgebracht hat. \nMehr Infos und das Programm hier.
URL:https://www.dkg-online.de/event/wo-bist-du-licht-hommage-a-claude-vivier-konzerte-roundtable-und-vortrag/
LOCATION:Ludwig-Maximilians-Universität München\, Geschwister-Scholl-Platz 1\, München\, 80539
END:VEVENT
BEGIN:VEVENT
DTSTART;TZID=Europe/Berlin:20240123T190000
DTEND;TZID=Europe/Berlin:20240123T213000
DTSTAMP:20260425T123056
CREATED:20231221T140655Z
LAST-MODIFIED:20240115T154641Z
UID:6752-1706036400-1706045400@www.dkg-online.de
SUMMARY:Lesung mit Jonathan Garfinkel in München
DESCRIPTION:Liebe DKG-Mitglieder\, liebe Kanadafreundinnen und -freunde\, \nin Zusammenarbeit mit dem Amerikahaus laden wir Sie herzlich ein\nzur Buchvorstellung der deutschen Übersetzung\ndes neuen Romans des kanadischen Autors\, Jonathan Garfinkel\,\n„Platz der Freiheit“\n(Kanadischer Titel: In a Land Without Dogs the Cats Learn to Bark)\nam 23. Januar ins Amerikahaus\, Karolinenplatz 3\, 80333 München.\nDer Autor Jonathan Garfinkel wird vor Ort sein und Auszüge der englischen Ausgabe lesen\, die deutsche Lesung übernimmt der Schauspieler und Sprecher Peter Weiß. Für die Moderation haben wir Frau Gabriela von Habsburg\, Bildhauerin\, Kunstprofessorin sowie ehemalige Botschafterin von Georgien in Deutschland gewinnen können. \nDabei ist auch Zeit für eine Diskussionsrunde vorgesehen. An einem Büchertisch können die Bücher erworben und vom Autor signiert werden. \nBitte registrieren Sie sich bis zum 16. Januar hier für die Veranstaltung. Der Eintritt ist frei. \nÜber das Buch\nDie junge Georgierin Tamar wird im Westen als Künstlerin bekannt. Es sind die nuller Jahre\, der Osten scheint sich einer grenzenlosen Freiheit zu öffnen. Da stirbt Tamars Mentorin Rachel Grabinsky\, die sie nach Kanada holte. Tamar stößt auf unerwartete Spuren\, die sie zurück nach Georgien und tief in die Vergangenheit führen. Wer war Rachel\, die rastlose Demokratie-Aktivistin\, wirklich? Und was ist mit jenem Gary Ruckler aus ihrer Vergangenheit\, von dem Geheimdienstberichte erzählen: Der Amerikaner kam 1974 als Student nach Moskau\, fand Freunde\, unter ihnen der charismatische Aslan\, der insgeheim über Stalins Verbrechen schrieb. Und dann so spurlos verschwand wie Gary. \n„Platz der Freiheit“ ist ein origineller\, kluger und mit genau dem richtigen Quentchen Absurdität gefütterter Roman. — Frankfurter Rundschau \n____________________________________ \n„Thrilling… «Platz der Freiheit» is an original\, clever novel dosed with just the right amount of absurdity.“ — Frankfurter Rundschau \nAbout the book\nThe young Georgian Tamar becomes known in the West as an artist. It is the noughties\, the East seems to be opening up to a boundless freedom. Then Tamar’s mentor Rachel Grabinsky\, who brought her to Canada\, dies. Tamar comes across unexpected leads that take her back to Georgia and deep into the past. Who was Rachel\, the restless democracy activist\, really? And what about that Gary Ruckler from her past that intelligence reports tell of: The American came to Moscow as a student in 1974\, made friends\, including the charismatic Aslan\, who secretly wrote about Stalin’s crimes. And then disappeared without a trace\, just like Gary. \nDear DKG members and Canada lovers\, \nin cooperation with the Amerikahaus Munich we cordially invite you\nto the book launch of the German translation\nof the new novel by the Canadian author Jonathan Garfinkel\,\n„Platz der Freiheit“\n(Canadian title: In a Land Without Dogs the Cats Learn to Bark)\non January 23\, 2024 at the Amerikahaus\, Karolinenplatz 3\, 80333 München.\nAuthor Jonathan Garfinkel will be on site and read extracts from the English version\, the reading in German will be taken over by actor/speaker Peter Weiß.\nFor the moderation we have been able to engage Gabriela von Habsburg\, sculptor\, professor of art and former ambassador of Georgia in Germany.\nThere will be a Q&A session after the reading. \nBooks can be purchased and signed by the author. \nPlease register by here before January 16. No admission fee.
URL:https://www.dkg-online.de/event/lesung-mit-jonathan-garfinkel-in-muenchen-save-the-date/
LOCATION:Amerikahaus München\, Karolinenplatz 3\, München\, 80333
END:VEVENT
BEGIN:VEVENT
DTSTART;TZID=Europe/Berlin:20240126T190000
DTEND;TZID=Europe/Berlin:20240126T210000
DTSTAMP:20260425T123056
CREATED:20240117T102342Z
LAST-MODIFIED:20240117T102342Z
UID:6833-1706295600-1706302800@www.dkg-online.de
SUMMARY:DKG Rhein-Main Kanada-Stammtisch
DESCRIPTION:Liebe DKG-Mitglieder\, liebe Kanadafreunde\,\ndas Team der Rhein-Main-Gruppe wünscht ein glückliches und gesundes 2024\, und wir hoffen\, dass alle gut in das neue Jahr gestartet sind.\nUngeachtet des – für Frankfurter Verhältnisse fast schon kanadisch kalten – Winterwetters fassen wir unsere weiteren Aktivitäten und Veranstaltungen ins Auge und freuen uns darauf\, mit Ihnen/Euch gemeinsam wieder anregende und interessante Stunden zu verbringen.\nSo findet als nächstes unser erster Stammtisch des Jahres statt\, bei dem wir uns über unser Lieblingsland und alle mit ihm verbundenen Themen und Neuigkeiten austauschen können. Wir würden uns sehr über eine rege Teilnahme freuen und laden herzlich ein zu unserem Treffen. \nFür die Parkplatzsuche sollte man vielleicht ein paar Minuten einkalkulieren\, aber das Restaurant ist auch mit öffentlichen Verkehrsmitteln gut erreichbar\, z. B. mit der U5 ab Hauptbahnhof (bis Deutsche Nationalbibliothek) oder dem Bus. \nWir bitten um kurze Anmeldung an rheinmain@dkg-online.de und freuen uns auf Euch! \nBis zum 26.01.\,\nherzliche Grüße \nFrank Herrnschmidt & Ulrich Barths \nCo-Regionalleiter Rhein-Main
URL:https://www.dkg-online.de/event/dkg-rhein-main-kanada-stammtisch/
LOCATION:NIBELUNGEN SCHÄNKE\, Nibelungenallee 55\, Frankfurt am Main\, 60318
END:VEVENT
BEGIN:VEVENT
DTSTART;TZID=Europe/Berlin:20240126T190000
DTEND;TZID=Europe/Berlin:20240225T220000
DTSTAMP:20260425T123056
CREATED:20240116T113119Z
LAST-MODIFIED:20240116T113507Z
UID:6820-1706295600-1708898400@www.dkg-online.de
SUMMARY:Cirque du Soleil - KURIOS – Cabinet of Curiosities
DESCRIPTION:Cirque du Soleil – KURIOS – Cabinet of Curiosities \nIn München \nMehr Infos hier.
URL:https://www.dkg-online.de/event/cirque-du-soleil-kurios-cabinet-of-curiosities/
LOCATION:Under the Big Top\, Auf der Theresienwiese
END:VEVENT
BEGIN:VEVENT
DTSTART;TZID=Europe/Berlin:20240128T110000
DTEND;TZID=Europe/Berlin:20240128T150000
DTSTAMP:20260425T123056
CREATED:20231228T151032Z
LAST-MODIFIED:20231228T151032Z
UID:6769-1706439600-1706454000@www.dkg-online.de
SUMMARY:DKG New Year's Brunch in Karlsruhe
DESCRIPTION:Dear All\, \nWe are only a few days away from the New Year. Join us for a New Year’s brunch and tour of the Fächerstadt Karlsruhe. It is Germany’s first UNESCO City of Media Arts and the seat of the German Federal Court of Justice. Get a glimpse of the lively cultural landscape in Karlsruhe that makes the hearts of culture lovers beat faster: There are over 50 museums\, theatres and galleries in Karlsruhe. \nWe have planned a delicious brunch that will be followed by a short tour leading up to a panoramic view over the region from the castle tower. Meals and entrance fees are at own cost. \nAfterwards\, Canada enthusiasts can team up for a self-organized curling competition or go ice skating right in front of the castle courtesy of Stadtwerke Karlsruhe Winterzeit. We have reserved a curling lane from 3pm-4pm and we are looking for players to join the two teams! \nWho: Members and friends \nPlease register here by January 20th so that we can better plan seating for brunch and curling. \nOn behalf of the DKG\, we wish you happy and safe holidays! \n  \n  \nHallo Zusammen\, \nEs sind nur noch wenige Tage bis zum neuen Jahr. Begleiten Sie uns zu einem Neujahrsbrunch und einer Tour durch die Fächerstadt Karlsruhe. Sie ist Deutschlands erste UNESCO City of Media Arts und Sitz des Bundesgerichtshofs. Verschaffen Sie sich einen Einblick in die lebendige Kulturlandschaft in Karlsruhe\, die die Herzen von Kulturliebhabern höher schlagen lässt: Über 50 Museen\, Theater und Galerien gibt es in Karlsruhe. \nWir haben einen leckeren Brunch geplant\, gefolgt von einer kurzen Tour\, die zu einem Panoramablick führt. Verpflegung und Eintrittsgelder erfolgen auf eigene Kosten. \nIm Anschluss können sich Kanada-Begeisterte zu einem selbstorganisierten Eisstock-Wettbewerb zusammenschließen oder direkt vor dem Schloss Schlittschuh laufen dank der Stadtwerke Karlsruhe Winterzeit. Wir haben von 15 bis 16 Uhr eine Eisstockschießen-Bahn reserviert und suchen Spieler\, die sich den beiden Teams anschließen! \nWer: Mitglieder und Freunde \nBitte melden Sie sich bis zum 20. Januar hier an\, damit wir die Sitzplätze für Brunch und Eisstockschießen besser planen können. \nIm Namen der DKG wünschen wir Ihnen frohe und sichere Feiertage! \nBest regards / Cordialement / Beste Grüße\, \nNorbert Schmitz and Tamara Joyette \nDKG Regional Group Baden-Württemberg\nDeutsch-Kanadische Gesellschaft e.V.
URL:https://www.dkg-online.de/event/dkg-new-years-brunch-in-karlsruhe/
LOCATION:Mama’s Café\, Hans-Thoma-Strasse 3\, Karlsruhe
END:VEVENT
BEGIN:VEVENT
DTSTART;TZID=Europe/Berlin:20240130T160000
DTEND;TZID=Europe/Berlin:20240130T173000
DTSTAMP:20260425T123056
CREATED:20240124T134128Z
LAST-MODIFIED:20240124T134128Z
UID:6844-1706630400-1706635800@www.dkg-online.de
SUMMARY:Canada EU Trade and Investment Association (CEUTIA)
DESCRIPTION:Join us on 30 January for this free hybrid event exploring the 🇨🇦 🇪🇺 economic and trade relationship! \nThis event will feature senior political\, governmental and business leaders from 🇨🇦 & 🇪🇺 will discuss and examine the strategic importance of the Canada-EU economic partnership from a geopolitical perspective\, including the role CETA and other trade agreements play in addressing global challenges. \nSpeakers include: \nAilish Campbell\, Canadian Ambassador to the EU \nJavier Moreno Sánchez\, Vice-Chair Delegation for relations with Canada\, European Parliament \nSabine Weyand\, Director-General\, Directorate-General for Trade\, European Commission (EU Trade) \nRobert Asselin\, Senior Vice President\, Policy\, Business Council of Canada \nSteve Verheul\, former Chief Trade Negotiator\, Government of Canada\, currently\, Principal\, gt&co and Member of the Advisory Board\, Canada EU Trade and Investment Association (CEUTIA) \nModerator: Jacki Davis\, Managing Director\, Meade Davis Communications \nThis event is part of the 2024 CETA Series of hybrid events presented by the Mission of Canada to the European Union in cooperation with the Canada EU Trade and Investment Association (CEUTIA). \nFor more information and to register 👉 👉 here and here. \n* the in-person event will take place at the Mission of Canada to the EU (Avenue des arts 57 – 1000\, Brussels) and will be followed by a networking reception.
URL:https://www.dkg-online.de/event/canada-eu-trade-and-investment-association-ceutia/
END:VEVENT
END:VCALENDAR