BEGIN:VCALENDAR
VERSION:2.0
PRODID:-//DKG (Deutsch-Kanadische Gesellschaft) - ECPv6.15.20//NONSGML v1.0//EN
CALSCALE:GREGORIAN
METHOD:PUBLISH
X-ORIGINAL-URL:https://www.dkg-online.de
X-WR-CALDESC:Veranstaltungen für DKG (Deutsch-Kanadische Gesellschaft)
REFRESH-INTERVAL;VALUE=DURATION:PT1H
X-Robots-Tag:noindex
X-PUBLISHED-TTL:PT1H
BEGIN:VTIMEZONE
TZID:Europe/Berlin
BEGIN:DAYLIGHT
TZOFFSETFROM:+0100
TZOFFSETTO:+0200
TZNAME:CEST
DTSTART:20230326T010000
END:DAYLIGHT
BEGIN:STANDARD
TZOFFSETFROM:+0200
TZOFFSETTO:+0100
TZNAME:CET
DTSTART:20231029T010000
END:STANDARD
BEGIN:DAYLIGHT
TZOFFSETFROM:+0100
TZOFFSETTO:+0200
TZNAME:CEST
DTSTART:20240331T010000
END:DAYLIGHT
BEGIN:STANDARD
TZOFFSETFROM:+0200
TZOFFSETTO:+0100
TZNAME:CET
DTSTART:20241027T010000
END:STANDARD
BEGIN:DAYLIGHT
TZOFFSETFROM:+0100
TZOFFSETTO:+0200
TZNAME:CEST
DTSTART:20250330T010000
END:DAYLIGHT
BEGIN:STANDARD
TZOFFSETFROM:+0200
TZOFFSETTO:+0100
TZNAME:CET
DTSTART:20251026T010000
END:STANDARD
END:VTIMEZONE
BEGIN:VEVENT
DTSTART;TZID=Europe/Berlin:20241209T180000
DTEND;TZID=Europe/Berlin:20241209T220000
DTSTAMP:20260421T162906
CREATED:20241210T174637Z
LAST-MODIFIED:20241210T175843Z
UID:7404-1733767200-1733781600@www.dkg-online.de
SUMMARY:Weihnachtsmarktbesuch in Dresden
DESCRIPTION:Die Regionalgruppe Sachsen lädt zum Besuch des Dresdner Weihnachtsmarkt ein.\nAlle sind herzlich willkommen – Freunde können gerne mitgebracht werden.\nWir freuen uns\, uns bei z. B. Glühwein und Bratwurst besser kennenzulernen.\nAnmeldungen an info@dkg-online.de oder sachsen@dkg-online.de. \n  \nFrauenkirche Haupteingang\nNeumarkt\n01067 Dresden
URL:https://www.dkg-online.de/event/weihnachtsmarktbesuch-in-dresden/
END:VEVENT
BEGIN:VEVENT
DTSTART;TZID=Europe/Berlin:20241210T183000
DTEND;TZID=Europe/Berlin:20241210T230000
DTSTAMP:20260421T162906
CREATED:20241210T174906Z
LAST-MODIFIED:20241210T175803Z
UID:7406-1733855400-1733871600@www.dkg-online.de
SUMMARY:DKG Oberbayern Christmas Reception
DESCRIPTION:The DKG team Oberbayern is delighted to invite you to the traditional informal DKG Pre-Christmas Get Together. Let us mix\, mingle\, chat and review the past year together with Consul David Dunkerley.\nBeverages and Christmas cookies will be provided. Please register here prior to December 6th.\nA special thanks goes to Consul David Dunkerley and his team for hosting this event again in the consulate. \n  \nCanadian Consulate\nTal 29\n80331 Munich
URL:https://www.dkg-online.de/event/dkg-oberbayern-christmas-reception-2/
END:VEVENT
BEGIN:VEVENT
DTSTART;TZID=Europe/Berlin:20241214T150000
DTEND;TZID=Europe/Berlin:20241214T200000
DTSTAMP:20260421T162906
CREATED:20241210T184809Z
LAST-MODIFIED:20241210T184810Z
UID:7450-1734188400-1734206400@www.dkg-online.de
SUMMARY:Weihnachtsmarkt - Schwetzingen
DESCRIPTION:Nachdem wir letztes Jahr einen gemütlichen Nachmittag in Tübingen verbracht hatten\, gehen wir nach Schwetzingen in diesem Jahr.\nBeachten Sie den 14.12.24 15.00 Uhr.\nTreffpunkt: Kassenhaus Haupteingang Schwetzinger Schloss.\nUm eine bessere Übersicht zu erhalten\, gebt uns bitte bis zum 12.12 ein Feedback\nHerzliche Grüße euer Orga Team BaWü\n\n\nChristmas Market 2024 – Schwetzingen – Dec 14\, 2024\nAfter spending a cosy afternoon in Tübingen last year\, we head to Schwetzingen this year.\nWe will meet at 3pm.\n Meeting point: ticket office main entrance Schwetzinger Schloss.\nTo get a better overview\, please give us feedback until 12.12.\nBest regards\, the Orga-Team BaWü.
URL:https://www.dkg-online.de/event/weihnachtsmarkt-schwetzingen/
END:VEVENT
END:VCALENDAR