BEGIN:VCALENDAR
VERSION:2.0
PRODID:-//DKG (Deutsch-Kanadische Gesellschaft) - ECPv6.15.20//NONSGML v1.0//EN
CALSCALE:GREGORIAN
METHOD:PUBLISH
X-WR-CALNAME:DKG (Deutsch-Kanadische Gesellschaft)
X-ORIGINAL-URL:https://www.dkg-online.de
X-WR-CALDESC:Veranstaltungen für DKG (Deutsch-Kanadische Gesellschaft)
REFRESH-INTERVAL;VALUE=DURATION:PT1H
X-Robots-Tag:noindex
X-PUBLISHED-TTL:PT1H
BEGIN:VTIMEZONE
TZID:Europe/Berlin
BEGIN:DAYLIGHT
TZOFFSETFROM:+0100
TZOFFSETTO:+0200
TZNAME:CEST
DTSTART:20240331T010000
END:DAYLIGHT
BEGIN:STANDARD
TZOFFSETFROM:+0200
TZOFFSETTO:+0100
TZNAME:CET
DTSTART:20241027T010000
END:STANDARD
BEGIN:DAYLIGHT
TZOFFSETFROM:+0100
TZOFFSETTO:+0200
TZNAME:CEST
DTSTART:20250330T010000
END:DAYLIGHT
BEGIN:STANDARD
TZOFFSETFROM:+0200
TZOFFSETTO:+0100
TZNAME:CET
DTSTART:20251026T010000
END:STANDARD
BEGIN:DAYLIGHT
TZOFFSETFROM:+0100
TZOFFSETTO:+0200
TZNAME:CEST
DTSTART:20260329T010000
END:DAYLIGHT
BEGIN:STANDARD
TZOFFSETFROM:+0200
TZOFFSETTO:+0100
TZNAME:CET
DTSTART:20261025T010000
END:STANDARD
END:VTIMEZONE
BEGIN:VEVENT
DTSTART;TZID=Europe/Berlin:20250115T183000
DTEND;TZID=Europe/Berlin:20250115T230000
DTSTAMP:20260421T180749
CREATED:20250102T181853Z
LAST-MODIFIED:20250102T181946Z
UID:7512-1736965800-1736982000@www.dkg-online.de
SUMMARY:Neujahrsempfang Bergisches Land
DESCRIPTION:Liebe Canadians\, DKG-Mitglieder und liebe KanadafreundInnen im Bergischen Land \, \nPassend zu Silvester und dem neuem Jahr vor der Tür\, möchten wir Euch ganz herzlich zu unserem DKG- Neujahrsempfang der Regionalgruppe bergisches Land ins Remscheider Bräu einladen. \n  \nWann? am 15.01\, ab 18:30 Uhr  \nWo? im Remscheider Bräu (Bismarckstr. 39\, 42853 Remscheid) \nWas erwartet Euch? ein gemütliches Beisammensein bei leckerem Essen und Getränken\, ein anregender Austausch und ein spannendes Kanadaquiz! \n  \nDie Kosten für Essen und Getränke sind vor Ort selbst zu bezahlen. \nÜber eine kurze Rückmeldung\, ob Ihr dabei sein könnt\, bis zum 13.01 (gerne an die Geschäftsstelle: info@dkg-online.de) würden wir uns freuen! \n  \nWir wünschen Euch allen eine guten Rutsch und ein frohes neues Jahr! \nUnd hoffen Euch zahlreich im Januar begrüßen zu dürfen\, \nliebe Grüße \ndie Regionalgruppe bergisches Land
URL:https://www.dkg-online.de/event/neujahrsempfang-bergisches-land/
END:VEVENT
BEGIN:VEVENT
DTSTART;TZID=Europe/Berlin:20250115T190000
DTEND;TZID=Europe/Berlin:20250115T220000
DTSTAMP:20260421T180749
CREATED:20241210T175143Z
LAST-MODIFIED:20241210T175704Z
UID:7408-1736967600-1736978400@www.dkg-online.de
SUMMARY:Lesung „Zwei Sommer in den Rockies“
DESCRIPTION:Verena und Analena Schmidt schreiben in ihrem Buch „Zwei Sommer in den Rockies“ darüber\, wie sie sich nach dem Tod ihres Ehemanns bzw. Vaters auf eine Wanderreise durch die kanadischen Rocky Mountains begeben. Es geht nicht nur um die Aufarbeitung des tragischen Geschehens\, sondern auch um Begegnungen mit der Tierwelt\, um Geologie und auch die Landeskunde kommt nicht zu kurz.\nHören Sie mehr zu dem Buch und der Reisen im Interview mit den Autorinnen im Dankg Podcast. \nUm uns auf diese Lesung einzustimmen\, treffen wir uns gegen 17:00 h zu einem gemeinsamen Essen. Genaue Zeit- und Ortsangaben folgen. \nAnmeldung hier. \n  \nBuchhandlung Mayersche THALIA\,\nKönigstraße 48 im Forum Duisburg\n47051 Duisburg
URL:https://www.dkg-online.de/event/lesung-zwei-sommer-in-den-rockies/
END:VEVENT
BEGIN:VEVENT
DTSTART;TZID=Europe/Berlin:20250117T190000
DTEND;TZID=Europe/Berlin:20250117T230000
DTSTAMP:20260421T180749
CREATED:20241210T175343Z
LAST-MODIFIED:20241210T175529Z
UID:7410-1737140400-1737154800@www.dkg-online.de
SUMMARY:Neujahrsdinner Rheinland
DESCRIPTION:Auch in diesem Jahr lädt die DKG Rheinland herzlich zum Neujahrsdinner im Januar ein. Wie schon im Vorjahr empfängt uns das Restaurant Löwen in Bonn-Bad Godesberg um 18.30 Uhr mit seiner ausgezeichneten Küche\, dem gemütlichen Ambiente und der zentralen Lage am Bad Godesberger Bahnhof. Speziell für uns wird ein rheinisch-kanadisches Menü (3 Gänge) kreiert. Spezielle Ernährungsbedürfnisse werden bei der Anmeldung abgefragt. Wir freuen uns über neue und altbekannte Gesichter\, die Spaß haben\, einen deutsch-kanadischen Abend in geselliger Runde zu verbringen. \nDer Kostenbeitrag pro Person von 42\,90€ pro Person bzw. 38\,00€ für Studierende ist unter dem Stichwort „NeujahrsdinnerRheinland 2025“ bei der Anmeldung auf das Konto der DKG zu überweisen. Die Kosten für Getränke sind vor Ort selbst zu bezahlen. \nAnmeldung bis Dienstag\, 14. Januar 2025 hier
URL:https://www.dkg-online.de/event/neujahrsdinner-rheinland/
END:VEVENT
BEGIN:VEVENT
DTSTART;TZID=Europe/Berlin:20250118T120000
DTEND;TZID=Europe/Berlin:20250118T230000
DTSTAMP:20260421T180749
CREATED:20250106T190045Z
LAST-MODIFIED:20250106T190134Z
UID:7521-1737201600-1737241200@www.dkg-online.de
SUMMARY:Konzert mit Morgan Finlay in Freiburg
DESCRIPTION:Konzert mit Morgan Finlay in Freiburg – 18.1.2025 \nLiebe DKG-Mitglieder\, liebe Kanadafreundinnen und -freunde\, \nein frohes neues Jahr und alles Gute für 2025 wünscht die Regionalgruppe BaWü! \nUnsere erste Veranstaltung in diesem Jahr findet in Freiburg statt. Wir wollen gemeinsam am 18.1.2025 ein Konzert von Morgan Finlay (irisch-kanadischer Sänger und Songwriter aus Vancouver) besuchen (www.morganfinlay.com). \nWir starten gegen Mittag mit einem Stadtrundgang in Freiburg\, um 18.00 Uhr gibt es Abendessen und um 20.00 Uhr das Konzert im K.I.S.S. – Kultur im Stühlinger Souterrain e.V.. \nÜber eine kurze Rückmeldung\, ob Ihr dabei sein könnt\, bis zum 14.01 (badenwuerttemberg@dkg-online.de) würden wir uns sehr freuen! \nViele Grüße Euer Orga-Team BaWü \n  \n  \n  \nConcert with Morgan Finlay in Freiburg – 18 January 2025 \nDear DKG members\, dear friends of Canada\, \nThe Baden-Württemberg regional group wishes you a Happy New Year and all the best for 2025! \nOur first event of the year will take place in Freiburg. We will attend a concert by Morgan Finlay (Irish-Canadian singer and songwriter from Vancouver) on 18 January 2025 (www.morganfinlay.com). \nWe will start with a tour of Freiburg around noon\, have dinner at 6:00 p.m.\, and attend the concert at 8:00 p.m. at K.I.S.S. – Kultur im Stühlinger Souterrain e.V.. \nWe would be very happy to receive a short reply from you by January 14th (badenwuerttemberg@dkg-online.de) to let us know if you can attend this event! \nKind regards\, your Orga-Team BaWü
URL:https://www.dkg-online.de/event/konzert-mit-morgan-finlay-in-freiburg/
END:VEVENT
BEGIN:VEVENT
DTSTART;TZID=Europe/Berlin:20250130T180000
DTEND;TZID=Europe/Berlin:20250130T230000
DTSTAMP:20260421T180749
CREATED:20250119T103413Z
LAST-MODIFIED:20250119T103548Z
UID:7574-1738260000-1738278000@www.dkg-online.de
SUMMARY:DKG Neujahrsempfang in Berlin
DESCRIPTION:Liebe DKG-Mitglieder und KanadafreundInnen\, \nWir laden Sie recht herzlich zu unserem traditionellen Neujahrsempfang der DKG-Regionalgruppe Berlin-Brandenburg ein. Es erwarten Sie ein gemütliches Beisammensein bei gutem Wein und alkoholfreien Getränken sowie anderen kanadischen Spezialitäten und ein spannendes Kanadaquiz.\nLassen Sie sich überraschen und melden Sie sich zügig an. \n. Der Eintritt ist für DKG-Mitglieder frei. Nichtmitglieder: 15€\n(Wenn Sie an dem Abend DKG-Mitglied werden\, werden Ihnen die 15€ auf den Mitgliederpreis angerechnet).\nBitte überweisen Sie auf folgendes Konto der Deutsch-Kanadischen Gesellschaft:\nSparkasse Köln Bonn IBAN DE39 3705 0198 0171 9729 53 BIC COLSDE33XXX \nBitte registrieren Sie sich für die Veranstaltung hier. \n  \nWir freuen uns auf Ihr Kommen.\nIhre Regionalgruppe Berlin-Brandenburg\nberlinbrandenburg@dkg-online.de \n  \n———————————————————————————– \n  \nDear DKG members and Canadalovers\, \nwe cordially invite you to our traditional New Year reception on behalf of the German Canadian Association’s regional group Berlin-Brandenburg. You can expect a pleasant get-together with good wines\, alcohol-free drinks as well as Canadian specialties and a Canada quiz. \nEntrance fee: DKG members free / others 15€\n(if you become a member at the event\, the member fee will be reduced by 15€).\nBank account of the Deutsch-Kanadische Gesellschaft:\nSparkasse Köln Bonn IBAN DE39 3705 0198 0171 9729 53 BIC COLSDE33XXX \nPlease register for the event here.
URL:https://www.dkg-online.de/event/dkg-neujahrsempfang-in-berlin-3/
LOCATION:Arnecke Sibeth Dabelstein Rechtsanwälte Berlin\, Arnecke Sibeth Dabelstein Rechtsanwälte Kurfürstendamm 54/55\, Berlin\, Berlin\, 10707\, Germany
ORGANIZER;CN="DKG Berlin-Brandenburg":MAILTO:berlinbrandenburg@dkg-online.de
END:VEVENT
END:VCALENDAR