BEGIN:VCALENDAR
VERSION:2.0
PRODID:-//DKG (Deutsch-Kanadische Gesellschaft) - ECPv6.15.20//NONSGML v1.0//EN
CALSCALE:GREGORIAN
METHOD:PUBLISH
X-WR-CALNAME:DKG (Deutsch-Kanadische Gesellschaft)
X-ORIGINAL-URL:https://www.dkg-online.de
X-WR-CALDESC:Veranstaltungen für DKG (Deutsch-Kanadische Gesellschaft)
REFRESH-INTERVAL;VALUE=DURATION:PT1H
X-Robots-Tag:noindex
X-PUBLISHED-TTL:PT1H
BEGIN:VTIMEZONE
TZID:Europe/Berlin
BEGIN:DAYLIGHT
TZOFFSETFROM:+0100
TZOFFSETTO:+0200
TZNAME:CEST
DTSTART:20240331T010000
END:DAYLIGHT
BEGIN:STANDARD
TZOFFSETFROM:+0200
TZOFFSETTO:+0100
TZNAME:CET
DTSTART:20241027T010000
END:STANDARD
BEGIN:DAYLIGHT
TZOFFSETFROM:+0100
TZOFFSETTO:+0200
TZNAME:CEST
DTSTART:20250330T010000
END:DAYLIGHT
BEGIN:STANDARD
TZOFFSETFROM:+0200
TZOFFSETTO:+0100
TZNAME:CET
DTSTART:20251026T010000
END:STANDARD
BEGIN:DAYLIGHT
TZOFFSETFROM:+0100
TZOFFSETTO:+0200
TZNAME:CEST
DTSTART:20260329T010000
END:DAYLIGHT
BEGIN:STANDARD
TZOFFSETFROM:+0200
TZOFFSETTO:+0100
TZNAME:CET
DTSTART:20261025T010000
END:STANDARD
END:VTIMEZONE
BEGIN:VEVENT
DTSTART;VALUE=DATE:20250304
DTEND;VALUE=DATE:20250305
DTSTAMP:20260421T212507
CREATED:20241210T181145Z
LAST-MODIFIED:20241210T181145Z
UID:7414-1741046400-1741132799@www.dkg-online.de
SUMMARY:Morgan Finlay's "Far Beyond Words" Bookshop Tour
DESCRIPTION:Buchhandlung Jastram\, Ulm
URL:https://www.dkg-online.de/event/morgan-finlays-far-beyond-words-bookshop-tour/
END:VEVENT
BEGIN:VEVENT
DTSTART;VALUE=DATE:20250305
DTEND;VALUE=DATE:20250306
DTSTAMP:20260421T212507
CREATED:20241210T181359Z
LAST-MODIFIED:20241210T181553Z
UID:7417-1741132800-1741219199@www.dkg-online.de
SUMMARY:Morgan Finlay's "Far Beyond Words" Bookshop Tour
DESCRIPTION:Bücherecke\, Walzbachtal
URL:https://www.dkg-online.de/event/morgan-finlays-far-beyond-words-bookshop-tour-2/
END:VEVENT
BEGIN:VEVENT
DTSTART;VALUE=DATE:20250306
DTEND;VALUE=DATE:20250307
DTSTAMP:20260421T212507
CREATED:20241210T181500Z
LAST-MODIFIED:20241210T181500Z
UID:7419-1741219200-1741305599@www.dkg-online.de
SUMMARY:Morgan Finlay's "Far Beyond Words" Bookshop Tour
DESCRIPTION:Vaihinger Buchladen\, Stuttgart
URL:https://www.dkg-online.de/event/morgan-finlays-far-beyond-words-bookshop-tour-3/
END:VEVENT
BEGIN:VEVENT
DTSTART;VALUE=DATE:20250307
DTEND;VALUE=DATE:20250308
DTSTAMP:20260421T212507
CREATED:20241210T181710Z
LAST-MODIFIED:20241210T181710Z
UID:7421-1741305600-1741391999@www.dkg-online.de
SUMMARY:Morgan Finlay's "Far Beyond Words" Bookshop Tour
DESCRIPTION:The Munich Readery\, München
URL:https://www.dkg-online.de/event/morgan-finlays-far-beyond-words-bookshop-tour-4/
END:VEVENT
BEGIN:VEVENT
DTSTART;TZID=Europe/Berlin:20250308T170000
DTEND;TZID=Europe/Berlin:20250308T230000
DTSTAMP:20260421T212507
CREATED:20250224T135128Z
LAST-MODIFIED:20250225T072017Z
UID:7948-1741453200-1741474800@www.dkg-online.de
SUMMARY:DKG Regionalgruppe Baden-Württemberg: Stammtisch mit Quiz-Abend!
DESCRIPTION:Die DKG Regionalgruppe Baden-Württemberg lädt herzlich ein zu einem geselligen Stammtisch mit Quiz-Abend! \n Wann? Samstag\, 8. März 2025\, 17:00 Uhr\n Wo? Sophie’s Brauhaus\, Marienstraße 28\, Stuttgart \nFreut euch auf einen unterhaltsamen Abend mit netten Gesprächen\, neuen Bekanntschaften und einem spannenden Kanada-Quiz! Testet euer Wissen über Kanada! Ob langjähriges Mitglied\, Kanada-Fan oder einfach neugierig – alle sind willkommen! \nAnmeldung: Bitte gebt uns bis zum 3. März 2025 Bescheid\, ob ihr dabei seid.\n Anmeldung per E-Mail an badenwuerttemberg@dkg-online.de \n Viele Grüße Euer Orga-Team BaWü \nNorbert Schmitz und Tamara Joyette \n  \n—————————————————————————————————————– \n  \nThe DKG Regional Group Baden-Württemberg cordially invites you to a social get-together and quiz night! \n When? Saturday\, March 8\, 2025\, 5:00 p.m.\n Where? Sophie’s Brauhaus\, Marienstraße 28\, Stuttgart \nLook forward to an entertaining evening with nice conversations\, new acquaintances and an exciting Canada quiz! Test your knowledge about Canada! Whether you are a long-standing member\, a Canada fan or just curious – everyone is welcome! \nRegistration: Please let us know by March 3\, 2025 if you will be joining us.\n Registration by email to badenwuerttemberg@dkg-online.de \nKind regards\, your Orga-Team BaWü\, \nNorbert Schmitz and Tamara Joyette
URL:https://www.dkg-online.de/event/dkg-regionalgruppe-baden-wuerttemberg-stammtisch-mit-quiz-abend/
LOCATION:Sophie’s Brauhaus Stuttgart\, Marienstraße 28\, Stuttgart\, 70178\, Germany
END:VEVENT
BEGIN:VEVENT
DTSTART;VALUE=DATE:20250311
DTEND;VALUE=DATE:20250312
DTSTAMP:20260421T212507
CREATED:20241210T181809Z
LAST-MODIFIED:20241210T181809Z
UID:7423-1741651200-1741737599@www.dkg-online.de
SUMMARY:Morgan Finlay's "Far Beyond Words" Bookshop Tour
DESCRIPTION:Büchermeer\, Langenselbold
URL:https://www.dkg-online.de/event/morgan-finlays-far-beyond-words-bookshop-tour-5/
END:VEVENT
BEGIN:VEVENT
DTSTART;VALUE=DATE:20250312
DTEND;VALUE=DATE:20250313
DTSTAMP:20260421T212507
CREATED:20241210T181859Z
LAST-MODIFIED:20241210T181859Z
UID:7425-1741737600-1741823999@www.dkg-online.de
SUMMARY:Morgan Finlay's "Far Beyond Words" Bookshop Tour
DESCRIPTION:Buchhandlung Ulenspiegel\, Fulda
URL:https://www.dkg-online.de/event/morgan-finlays-far-beyond-words-bookshop-tour-6/
END:VEVENT
BEGIN:VEVENT
DTSTART;TZID=Europe/Berlin:20250312T190000
DTEND;TZID=Europe/Berlin:20250312T230000
DTSTAMP:20260421T212507
CREATED:20250226T091310Z
LAST-MODIFIED:20250226T091447Z
UID:7980-1741806000-1741820400@www.dkg-online.de
SUMMARY:DKG Rhein-Main: Kanada-Stammtisch
DESCRIPTION:Liebe DKG-Mitglieder\, liebe Kanadafreundinnen und -freunde\, \nwir hoffen\, Ihr seid alle gut durch die ersten Wochen des neuen Jahres gekommen und genießt das derzeit schon frühlingshafte Wetter. \nNach einer Pause im Winter möchten wir nun unsere regelmäßigen Zusammenkünfte in der DKG Rhein-Main wieder aufnehmen und laden Euch daher sehr herzlich zu unserem nächsten Kanada-Stammtisch am Mittwoch\, dem 12. März 2025\, ein. \nFür dieses Treffen haben wir unsere bewährte Location im Restaurant des SC 1880 Frankfurt ausgewählt\, wo wir über unser Lieblingsland und alle damit verbundenen Themen und Neuigkeiten ausführlich sprechen können. Außerdem haben wir uns eine oder zwei kleine Überraschungen ausgedacht\, so daß wir bestimmt einen schönen\, gemütlichen und interessanten Abend haben werden. \nWir würden uns wie immer sehr über eine rege Teilnahme freuen. Unser Treffen findet statt am: \nMittwoch\, dem 12. März 2025\, um 19.00 Uhr\nRestaurant oder auf der Sonnenterrasse des Sport Club Frankfurt 1880\nFeldgerichtstraße 29\n60320 Frankfurt \nDer Club verfügt über einen eigenen Parkplatz\, ist aber auch mit öffentlichen Verkehrsmitteln recht gut erreichbar. z. B. mit der U5 ab Hauptbahnhof (bis Deutsche Nationalbibliothek) und dann ca. 10 Minuten zu Fuß. \nWir bitten Euch um eine kurze Anmeldung an rheinmain@dkg-online.de und freuen uns auf Euch! Bis zum 12. März. \nHerzliche Grüße vom Team Rhein-Main\nUlrich Barths & Frank Herrnschmidt
URL:https://www.dkg-online.de/event/dkg-rhein-main-kanada-stammtisch-2/
LOCATION:Sport Club Frankfurt 1880\, Feldgerichtstraße 29\, Frankfurt am Main\, 60320
END:VEVENT
BEGIN:VEVENT
DTSTART;TZID=Europe/Berlin:20250314T191500
DTEND;TZID=Europe/Berlin:20250314T220000
DTSTAMP:20260421T212507
CREATED:20250210T115817Z
LAST-MODIFIED:20250211T141848Z
UID:7861-1741979700-1741989600@www.dkg-online.de
SUMMARY:DKG in Pforzheim: Zwei Sommer in den Rockies: Vortrag mit Bildern\, Musik und zur Motivation
DESCRIPTION:Westkanada-Expertin und DKG-Mitglied Verena Schmidt: Vortrag mit Bildern\, Musik und wertvollen Impulsen zum Aufstehen\, Weitermachen und Handeln ist eine ideale »Motivationsdosis«. \n  \nThalia Pforzheim \nWestliche Karl-Friedrich Strasse 27-29\, Pforzheim \nDieser lebendige Vortrag erzählt was passiert\, wenn sich eine Reiseleiterin nach dem Tod ihres Partners gemeinsam mit ihrer Tochter zu einem intensiven Wanderführer-Projekt aufmacht\, um die wilde Gebirgslandschaft im Westen Kanadas in zwei Sommern zu erkunden.\nwww.starliteandwild.de/event/zwei-sommer-in-den-rockies-6
URL:https://www.dkg-online.de/event/dkg-baden-wuerttemberg-in-pforzheim-zwei-sommer-in-den-rockies-vortrag-mit-bildern-musik-und-zur-motivation/
END:VEVENT
BEGIN:VEVENT
DTSTART;TZID=Europe/Berlin:20250314T200000
DTEND;TZID=Europe/Berlin:20250314T220000
DTSTAMP:20260421T212507
CREATED:20241210T181956Z
LAST-MODIFIED:20250402T084911Z
UID:7427-1741982400-1741989600@www.dkg-online.de
SUMMARY:DKG Region Sachsen in Dresden: Konzert Irisch-Kanadischer Singer Songwriter Morgan Finlay
DESCRIPTION:Bookshop tour Irisch-Kanadischer Singer Songwriter Morgan Finlay: Far beyond words\nBuchhandlung Bücherberg\, Warthaer Str. 6\, 01157 Dresden\nWeitere Infos unter www.morganfinlay.com\nEintritt gegen kleinen Obulus\, für uns reserviertes Kontingent (noch 2 Karte frei)\nRückmeldung erbeten an sachsen@dkg-online.de
URL:https://www.dkg-online.de/event/morgan-finlays-far-beyond-words-bookshop-tour-7/
END:VEVENT
BEGIN:VEVENT
DTSTART;VALUE=DATE:20250315
DTEND;VALUE=DATE:20250316
DTSTAMP:20260421T212507
CREATED:20241210T182107Z
LAST-MODIFIED:20241210T182107Z
UID:7429-1741996800-1742083199@www.dkg-online.de
SUMMARY:Morgan Finlay's "Far Beyond Words" Bookshop Tour
DESCRIPTION:The Art of Books\, Bonn
URL:https://www.dkg-online.de/event/morgan-finlays-far-beyond-words-bookshop-tour-8/
END:VEVENT
BEGIN:VEVENT
DTSTART;VALUE=DATE:20250317
DTEND;VALUE=DATE:20250318
DTSTAMP:20260421T212507
CREATED:20241210T182245Z
LAST-MODIFIED:20241210T182245Z
UID:7431-1742169600-1742255999@www.dkg-online.de
SUMMARY:Morgan Finlay's "Far Beyond Words" Bookshop Tour
DESCRIPTION:Anne Treib\, Leibach
URL:https://www.dkg-online.de/event/morgan-finlays-far-beyond-words-bookshop-tour-9/
END:VEVENT
BEGIN:VEVENT
DTSTART;VALUE=DATE:20250318
DTEND;VALUE=DATE:20250319
DTSTAMP:20260421T212507
CREATED:20241210T182342Z
LAST-MODIFIED:20241210T182423Z
UID:7433-1742256000-1742342399@www.dkg-online.de
SUMMARY:Morgan Finlay's "Far Beyond Words" Bookshop Tour
DESCRIPTION:Buchhandlung Markus Idstein\, Oestrich-Winkel
URL:https://www.dkg-online.de/event/morgan-finlays-far-beyond-words-bookshop-tour-10/
END:VEVENT
BEGIN:VEVENT
DTSTART;VALUE=DATE:20250319
DTEND;VALUE=DATE:20250320
DTSTAMP:20260421T212507
CREATED:20241210T182535Z
LAST-MODIFIED:20241210T182535Z
UID:7435-1742342400-1742428799@www.dkg-online.de
SUMMARY:Morgan Finlay's "Far Beyond Words" Bookshop Tour
DESCRIPTION:Rittersche Buchhandlung\, Soest
URL:https://www.dkg-online.de/event/morgan-finlays-far-beyond-words-bookshop-tour-11/
END:VEVENT
BEGIN:VEVENT
DTSTART;VALUE=DATE:20250320
DTEND;VALUE=DATE:20250321
DTSTAMP:20260421T212507
CREATED:20241210T182633Z
LAST-MODIFIED:20241210T182633Z
UID:7437-1742428800-1742515199@www.dkg-online.de
SUMMARY:Morgan Finlay's "Far Beyond Words" Bookshop Tour
DESCRIPTION:Buchhandlung Bökers\, Wildeshausen
URL:https://www.dkg-online.de/event/morgan-finlays-far-beyond-words-bookshop-tour-12/
END:VEVENT
BEGIN:VEVENT
DTSTART;TZID=Europe/Berlin:20250320T190000
DTEND;TZID=Europe/Berlin:20250320T230000
DTSTAMP:20260421T212507
CREATED:20250226T082733Z
LAST-MODIFIED:20250227T075247Z
UID:7970-1742497200-1742511600@www.dkg-online.de
SUMMARY:Democracy and the New World Order: Michael Ignatieff - Writer\, Historian\, Former Canadian Liberal Politician
DESCRIPTION:Michael Ignatieff: Democracy and the New World Order \nThe Theater at Amerikahaus\nKarolinenplatz 3\n80333 Munich \nThursday\, March 20th\, 2025\, 7pm CET \n  \n​Admission is free. Please register via this registration form: https://eveeno.com/100940757 \nOr follow the livestream \n  \nWith the rules based international order in ruins in Ukraine and Gaza\, and a President in the White House daily re-writing the norms of America’s relationship with allies and with adversaries\, Europe has entered a world very different from the one we dreamed of in 1989 when the Berlin Wall came down. \nCanadian historian\, analyst and former politician\, Michael Ignatieff\, shares his analysis of the challenges and opportunities for Europe in this moment. \nMichael Ignatieff is a Canadian writer\, historian and former liberal politician.  Between 2006 and 2011\, Ignatieff served as an MP in the Parliament of Canada and then as Leader of the Liberal Party of Canada and Leader of the Official Opposition. He is a member of the Queen’s Privy Council for Canada and holds thirteen honorary degrees.​ Between 2012 and 2015 he served as Centennial Chair at the Carnegie Council for Ethics in International Affairs in New York.​ Between 2014 and 2016 he was Edward R. Murrow Chair of the Press\, Politics and Public Policy at the Harvard Kennedy School. \n​Ignatieff was until recently the Rector and President of Central European University in Budapest. He stepped down at the end of July 2021\, to stay as a Professor in the History Department. He currently teaches classes on Democratic Freedom and its Enemies as well as Human Rights in History.​ He is the 2024 winner of the Princess of Asturias Award for Social Sciences for his defense of human rights and analysis of political conflicts. In granting the award\, the jury said: \nMichael Ignatieff’s broad-ranging and varied career stands out for his defence of fundamental and universal human rights and values. Through his books\, articles and television programmes\, he has contributed ideas for overcoming ethnic and religious differences and the search for common values within the context of globalization\, the clarification of the consequences of the technological revolution\, the analysis of moral conflicts in the face of cultural relativism and opposition to violent nationalisms\, among other topics. \nHis intense\, multifaceted professional career\, which ranges from the study of history and philosophy to the practice of journalism and politics\, is characterized by the application of critical thought to the major political conflicts of our time. In his work\, the analysis of specific political problems is always carried out with a view to the exacting standards of democratic systems. The result is an original mix of political realism\, humanism\, and liberal idealism\, in which concern for the values of freedom\, human rights\, tolerance\, and the safeguarding of institutions comprises his fundamental concern. \nThis author’s contribution constitutes an essential benchmark to guide us in these present times replete with armed conflicts\, political polarization and threats to freedom. \nHe is the author of eighteen books on liberalism\, human rights and the history of ideas\, fiction and non-fiction\, screenplays\, reviews and essays – altogether translated into 20 languages. His most recent book is On Consolation: Finding Solace in Dark Times. \nModerator David Ehinger is a retired Canadian diplomat now living in Munich. He holds degrees in History\, Law and International Relations from his studies in Canada\, the USA and the UK. In his Ottawa assignments he spent the majority of his time in the Legal Bureau of Canada’s foreign ministry\, now known as Global Affairs Canada. He served abroad in Geneva\, Washington and Madrid in addition to spending 9 years of his career at the Canadian Embassy in Berlin\, first as Economic Counsellor (2003-2007) and later as Head of the Public Affairs programme (2012-2017). \nThis event is a cooperation between the Yale Alumni of Germany who present this speech  as part of their lecture series „Munich Dialogues on Democracy“\, the Amerikahaus München and Deutsch-Kanadische Gesellschaft.
URL:https://www.dkg-online.de/event/democracy-and-the-new-world-order-michael-ignatieff-writer-historian-former-canadian-liberal-politician/
LOCATION:Amerikahaus München\, Karolinenplatz 3\, München\, 80333
ATTACH;FMTTYPE=image/jpeg:https://www.dkg-online.de/wp-content/uploads/2025/02/Michael-Ignatieff.jpeg
END:VEVENT
BEGIN:VEVENT
DTSTART;TZID=Europe/Berlin:20250320T193000
DTEND;TZID=Europe/Berlin:20250320T223000
DTSTAMP:20260421T212507
CREATED:20250323T135739Z
LAST-MODIFIED:20250323T135841Z
UID:8055-1742499000-1742509800@www.dkg-online.de
SUMMARY:Privatsphäre im Internet / Vie privée en ligne
DESCRIPTION:Die AQA lädt Sie zu einer virtuellen Konferenz mit dem Titel „Privatsphäre im Internet / Vie privée en ligne“ ein.\n\nIm digitalen Zeitalter ist der Schutz unserer Online-Privatsphäre wichtiger denn je. In dieser Sitzung werden die folgenden Themen behandelt:\n– Historische Entwicklung des digitalen Zeitalters;\n– Die Herausforderungen für die Privatsphäre im Internet ;\n– Verfügbare Werkzeuge und Ressourcen zur Erhöhung der Sicherheit.\n\nDie Präsentation wird von Thorsten Strufe\, Professor für Computersicherheit am KIT und Assistenzprofessor für Datenschutz und Netzwerksicherheit an der TU Dresden\, moderiert. Der 45-minütige virtuelle Vortrag wird auf Deutsch gehalten. Anschließend wird die Fragerunde auf Französisch\, Deutsch und Englisch stattfinden.\n\nDonnerstag\, den 20. März um 19:30 Uhr\n\nWir bitten euch\, Euere Teilnahme bis zum 18. März 2025 unter melody@aqa-online.de\, zu bestätigen.\n\nWir freuen uns auf Euch!\n\n\nVotre équipe du comité\n\n\n\n\n————————————————————————————————————————————————-\n\n\n\n\nBonjour à toutes et à tous\,\n \n(Deutsche Übersetzung folgt.)\nL’AQA vous invite à participer à notre prochaine conférence virtuelle qui porte le titre « Vie privée en ligne / Privatsphäre im Internet ».\n \n\nÀ l’ère numérique\, la protection de notre vie privée en ligne est plus importante que jamais. Au cours de cette session\, les sujets suivants seront abordés :\n– Développement historique de l’ère numérique;\n– Les enjeux de la vie privée sur Internet ;\n– Les outils et ressources disponibles pour augmenter la sécurité.\nCette présentation sera animée par Thorsten Strufe\, professeur en sécurité informatique au KIT et professeur adjoint en confidentialité et de sécurité des réseaux à la TU Dresden. La conférence virtuelle de 45 min. se tiendra en allemand et la période de questions sera ouverte en fiançais\, en allemand et en anglais.\n\n\n\n jeudi le 20 mars à 19h30\n\n\nMerci de confirmer votre présence à l’adresse melody@aqa-online.de d’ici le 18 mars 2025. \n \nNe manquez pas ce prochain rendez-vous ! 
URL:https://www.dkg-online.de/event/privatsphaere-im-internet-vie-privee-en-ligne/
LOCATION:Online
END:VEVENT
BEGIN:VEVENT
DTSTART;VALUE=DATE:20250321
DTEND;VALUE=DATE:20250322
DTSTAMP:20260421T212507
CREATED:20241210T182807Z
LAST-MODIFIED:20241210T182807Z
UID:7439-1742515200-1742601599@www.dkg-online.de
SUMMARY:Morgan Finlay's "Far Beyond Words" Bookshop Tour
DESCRIPTION:Logbuchladen\, Bremen
URL:https://www.dkg-online.de/event/morgan-finlays-far-beyond-words-bookshop-tour-13/
END:VEVENT
BEGIN:VEVENT
DTSTART;VALUE=DATE:20250325
DTEND;VALUE=DATE:20250326
DTSTAMP:20260421T212507
CREATED:20241210T182929Z
LAST-MODIFIED:20241210T182929Z
UID:7441-1742860800-1742947199@www.dkg-online.de
SUMMARY:Morgan Finlay's "Far Beyond Words" Bookshop Tour
DESCRIPTION:Buchladung Hielscher\, Dannenberg
URL:https://www.dkg-online.de/event/morgan-finlays-far-beyond-words-bookshop-tour-14/
END:VEVENT
BEGIN:VEVENT
DTSTART;VALUE=DATE:20250326
DTEND;VALUE=DATE:20250327
DTSTAMP:20260421T212507
CREATED:20241210T183059Z
LAST-MODIFIED:20241210T183059Z
UID:7443-1742947200-1743033599@www.dkg-online.de
SUMMARY:Morgan Finlay's "Far Beyond Words" Bookshop Tour
DESCRIPTION:Bücherwelten\, Wismar
URL:https://www.dkg-online.de/event/morgan-finlays-far-beyond-words-bookshop-tour-15/
END:VEVENT
BEGIN:VEVENT
DTSTART;VALUE=DATE:20250328
DTEND;VALUE=DATE:20250329
DTSTAMP:20260421T212507
CREATED:20241210T183218Z
LAST-MODIFIED:20241210T183218Z
UID:7445-1743120000-1743206399@www.dkg-online.de
SUMMARY:Morgan Finlay's "Far Beyond Words" Bookshop Tour
DESCRIPTION:Förderseiten\, Kiel
URL:https://www.dkg-online.de/event/morgan-finlays-far-beyond-words-bookshop-tour-16/
END:VEVENT
BEGIN:VEVENT
DTSTART;VALUE=DATE:20250328
DTEND;VALUE=DATE:20250409
DTSTAMP:20260421T212507
CREATED:20250304T131233Z
LAST-MODIFIED:20250306T160533Z
UID:7993-1743120000-1744156799@www.dkg-online.de
SUMMARY:Ausstellung: Transatlantic Paper Trail
DESCRIPTION:Liebe DKG-Mitglieder\, liebe Kanadafreundinnen und -freunde\, \ndie Transatlantic Paper Trail Ausstellung im \nHotel Polar-Stern\nOstseeallee 24\n18225 Kühlungsborn \nwird eröffnet mit Grußworten unserer DKG-Mitglieder\, Eigentümerfamilie Koller und dem organisierenden Künstler Rudolf Stüssi\, am \nSamstag\, 29. März um 15 Uhr \nDie Ausstellung ist vom 28. März – 8. April\, 2025 geöffnet.\nEs werden Werke von 9 preisgekrönten Künstlern aus Kanada\, Deutschland und der Schweiz darin vertreten sein. Diese Ausstellung wurde in der Helson Gallery in Kanada im November 2023 initialisiert\, wurde darauf im September 2024 in der Galerie Crameri in Chur\, Schweiz\, gezeigt\, und war schliesslich in der Galerie Wolf und Galentz in Berlin im November 2024 zu sehen. Transatlantic Paper Trail versprüht eine lebhafte Auseinandersetzung mit unserer Welt\, eine Show\, die sich quer über den Atlantik spannt. Die Eröffnung findet am Samstag\, dem 29.März statt. Alle sind willkommen. Ein Kurzbesuch an der Ostsee\, der sich lohnt. \nAttraktive Übernachtungs-Konditionen: Das Hotel Polar-Stern bietet zur Ausstellung von Montag bis einschließlich Donnerstag Doppelzimmer mit 10% Rabatt an (Doppelzimmer zur Waldseite zum Preis von 94\,50 € / Nacht statt 105\,00 € für 2 Personen inklusive Frühstück/ Doppelzimmer zur Seeseite für 103\,50 € statt 115\,00 €).\nBuchungsanfragen für das Hotel können gerne via E-Mail an info@polar-stern.com gestellt werden. \nEs ist keine Anmeldung notwendig.\n \n  \nEinladung Transatlantic Polar Stern
URL:https://www.dkg-online.de/event/transatlantic-paper-trail/
LOCATION:Hotel Polar-Stern\, Ostseeallee 24\, Kühlungsborn\, 18225
END:VEVENT
BEGIN:VEVENT
DTSTART;VALUE=DATE:20250329
DTEND;VALUE=DATE:20250330
DTSTAMP:20260421T212507
CREATED:20241210T183354Z
LAST-MODIFIED:20241210T183355Z
UID:7447-1743206400-1743292799@www.dkg-online.de
SUMMARY:Morgan Finlay's "Far Beyond Words" Bookshop Tour
DESCRIPTION:Carl-von-Ossietzky Buchhandlung\, Flensburg
URL:https://www.dkg-online.de/event/morgan-finlays-far-beyond-words-bookshop-tour-17/
END:VEVENT
BEGIN:VEVENT
DTSTART;TZID=Europe/Berlin:20250329T150000
DTEND;TZID=Europe/Berlin:20250329T170000
DTSTAMP:20260421T212507
CREATED:20250304T132236Z
LAST-MODIFIED:20250306T160742Z
UID:7998-1743260400-1743267600@www.dkg-online.de
SUMMARY:Ausstellungseröffnung: Transatlantic Paper Trail
DESCRIPTION:Ausstellungseröffnung in Anwesenheit einiger Künstler mit Sektempfang ist am \n29.März um 15.00 Uhr-17.00 Uhr im: \nHotel Polar-Stern\nOstseeallee 24\n18225 Kühlungsborn \n  \nEinladung Transatlantic Polar Stern
URL:https://www.dkg-online.de/event/ausstellungseroeffnung-transatlantic-paper-trail/
LOCATION:Hotel Polar-Stern\, Ostseeallee 24\, Kühlungsborn\, 18225
ATTACH;FMTTYPE=image/jpeg:https://www.dkg-online.de/wp-content/uploads/2025/03/Transatlantic-Paper-Trail.jpg
END:VEVENT
END:VCALENDAR