BEGIN:VCALENDAR
VERSION:2.0
PRODID:-//DKG (Deutsch-Kanadische Gesellschaft) - ECPv6.15.20//NONSGML v1.0//EN
CALSCALE:GREGORIAN
METHOD:PUBLISH
X-ORIGINAL-URL:https://www.dkg-online.de
X-WR-CALDESC:Veranstaltungen für DKG (Deutsch-Kanadische Gesellschaft)
REFRESH-INTERVAL;VALUE=DURATION:PT1H
X-Robots-Tag:noindex
X-PUBLISHED-TTL:PT1H
BEGIN:VTIMEZONE
TZID:Europe/Berlin
BEGIN:DAYLIGHT
TZOFFSETFROM:+0100
TZOFFSETTO:+0200
TZNAME:CEST
DTSTART:20240331T010000
END:DAYLIGHT
BEGIN:STANDARD
TZOFFSETFROM:+0200
TZOFFSETTO:+0100
TZNAME:CET
DTSTART:20241027T010000
END:STANDARD
BEGIN:DAYLIGHT
TZOFFSETFROM:+0100
TZOFFSETTO:+0200
TZNAME:CEST
DTSTART:20250330T010000
END:DAYLIGHT
BEGIN:STANDARD
TZOFFSETFROM:+0200
TZOFFSETTO:+0100
TZNAME:CET
DTSTART:20251026T010000
END:STANDARD
BEGIN:DAYLIGHT
TZOFFSETFROM:+0100
TZOFFSETTO:+0200
TZNAME:CEST
DTSTART:20260329T010000
END:DAYLIGHT
BEGIN:STANDARD
TZOFFSETFROM:+0200
TZOFFSETTO:+0100
TZNAME:CET
DTSTART:20261025T010000
END:STANDARD
END:VTIMEZONE
BEGIN:VEVENT
DTSTART;VALUE=DATE:20250328
DTEND;VALUE=DATE:20250409
DTSTAMP:20260421T230312
CREATED:20250304T131233Z
LAST-MODIFIED:20250306T160533Z
UID:7993-1743120000-1744156799@www.dkg-online.de
SUMMARY:Ausstellung: Transatlantic Paper Trail
DESCRIPTION:Liebe DKG-Mitglieder\, liebe Kanadafreundinnen und -freunde\, \ndie Transatlantic Paper Trail Ausstellung im \nHotel Polar-Stern\nOstseeallee 24\n18225 Kühlungsborn \nwird eröffnet mit Grußworten unserer DKG-Mitglieder\, Eigentümerfamilie Koller und dem organisierenden Künstler Rudolf Stüssi\, am \nSamstag\, 29. März um 15 Uhr \nDie Ausstellung ist vom 28. März – 8. April\, 2025 geöffnet.\nEs werden Werke von 9 preisgekrönten Künstlern aus Kanada\, Deutschland und der Schweiz darin vertreten sein. Diese Ausstellung wurde in der Helson Gallery in Kanada im November 2023 initialisiert\, wurde darauf im September 2024 in der Galerie Crameri in Chur\, Schweiz\, gezeigt\, und war schliesslich in der Galerie Wolf und Galentz in Berlin im November 2024 zu sehen. Transatlantic Paper Trail versprüht eine lebhafte Auseinandersetzung mit unserer Welt\, eine Show\, die sich quer über den Atlantik spannt. Die Eröffnung findet am Samstag\, dem 29.März statt. Alle sind willkommen. Ein Kurzbesuch an der Ostsee\, der sich lohnt. \nAttraktive Übernachtungs-Konditionen: Das Hotel Polar-Stern bietet zur Ausstellung von Montag bis einschließlich Donnerstag Doppelzimmer mit 10% Rabatt an (Doppelzimmer zur Waldseite zum Preis von 94\,50 € / Nacht statt 105\,00 € für 2 Personen inklusive Frühstück/ Doppelzimmer zur Seeseite für 103\,50 € statt 115\,00 €).\nBuchungsanfragen für das Hotel können gerne via E-Mail an info@polar-stern.com gestellt werden. \nEs ist keine Anmeldung notwendig.\n \n  \nEinladung Transatlantic Polar Stern
URL:https://www.dkg-online.de/event/transatlantic-paper-trail/
LOCATION:Hotel Polar-Stern\, Ostseeallee 24\, Kühlungsborn\, 18225
END:VEVENT
BEGIN:VEVENT
DTSTART;TZID=Europe/Berlin:20250404T200000
DTEND;TZID=Europe/Berlin:20250404T220000
DTSTAMP:20260421T230312
CREATED:20250204T092508Z
LAST-MODIFIED:20250402T084850Z
UID:7824-1743796800-1743804000@www.dkg-online.de
SUMMARY:DKG Region Sachsen in Döbeln: Konzert Irisch-Kanadischer Singer Songwriter Morgan Finlay
DESCRIPTION:Bookshop-Tour Irisch-Kanadischer Singer Songwriter Morgan Finlay\nTreibhaus e.V.\, Bahnhofstraße 56\, 04720 Döbeln\nWeitere Infos unter www.morganfinlay.com
URL:https://www.dkg-online.de/event/konzert-morgan-finlay/
END:VEVENT
BEGIN:VEVENT
DTSTART;TZID=Europe/Berlin:20250405T200000
DTEND;TZID=Europe/Berlin:20250405T220000
DTSTAMP:20260421T230312
CREATED:20250204T092605Z
LAST-MODIFIED:20250402T084855Z
UID:7826-1743883200-1743890400@www.dkg-online.de
SUMMARY:DKG Region Sachsen in Plauen: Konzert Irisch-Kanadischer Singer Songwriter Morgan Finlay
DESCRIPTION:Bookshop tour Irisch-Kanadischer Singer Songwriter Morgan Finlay: Far beyond words\nLiving Room Show\, Plauen\, weitere Infos unter www.morganfinlay.com \n 
URL:https://www.dkg-online.de/event/konzert-morgan-finlay-2/
END:VEVENT
BEGIN:VEVENT
DTSTART;TZID=Europe/Berlin:20250407T200000
DTEND;TZID=Europe/Berlin:20250407T220000
DTSTAMP:20260421T230312
CREATED:20250204T092706Z
LAST-MODIFIED:20250402T084920Z
UID:7828-1744056000-1744063200@www.dkg-online.de
SUMMARY:DKG Region Sachsen in Chemnitz: Konzert Irisch-Kanadischer Singer Songwriter Morgan Finlay
DESCRIPTION:Bookshop tour Irisch-Kanadischer Singer Songwriter Morgan Finlay: Far beyond words\nInspire\, Brühl 49\, 09111 Chemnitz\, weitere Infos unter www.morganfinlay.com
URL:https://www.dkg-online.de/event/konzert-morgan-finlay-3/
END:VEVENT
END:VCALENDAR