BEGIN:VCALENDAR
VERSION:2.0
PRODID:-//DKG (Deutsch-Kanadische Gesellschaft) - ECPv6.15.20//NONSGML v1.0//EN
CALSCALE:GREGORIAN
METHOD:PUBLISH
X-WR-CALNAME:DKG (Deutsch-Kanadische Gesellschaft)
X-ORIGINAL-URL:https://www.dkg-online.de
X-WR-CALDESC:Veranstaltungen für DKG (Deutsch-Kanadische Gesellschaft)
REFRESH-INTERVAL;VALUE=DURATION:PT1H
X-Robots-Tag:noindex
X-PUBLISHED-TTL:PT1H
BEGIN:VTIMEZONE
TZID:Europe/Berlin
BEGIN:DAYLIGHT
TZOFFSETFROM:+0100
TZOFFSETTO:+0200
TZNAME:CEST
DTSTART:20240331T010000
END:DAYLIGHT
BEGIN:STANDARD
TZOFFSETFROM:+0200
TZOFFSETTO:+0100
TZNAME:CET
DTSTART:20241027T010000
END:STANDARD
BEGIN:DAYLIGHT
TZOFFSETFROM:+0100
TZOFFSETTO:+0200
TZNAME:CEST
DTSTART:20250330T010000
END:DAYLIGHT
BEGIN:STANDARD
TZOFFSETFROM:+0200
TZOFFSETTO:+0100
TZNAME:CET
DTSTART:20251026T010000
END:STANDARD
BEGIN:DAYLIGHT
TZOFFSETFROM:+0100
TZOFFSETTO:+0200
TZNAME:CEST
DTSTART:20260329T010000
END:DAYLIGHT
BEGIN:STANDARD
TZOFFSETFROM:+0200
TZOFFSETTO:+0100
TZNAME:CET
DTSTART:20261025T010000
END:STANDARD
END:VTIMEZONE
BEGIN:VEVENT
DTSTART;TZID=Europe/Berlin:20250504T150000
DTEND;TZID=Europe/Berlin:20250504T180000
DTSTAMP:20260423T134357
CREATED:20250403T151444Z
LAST-MODIFIED:20250403T151445Z
UID:8097-1746370800-1746381600@www.dkg-online.de
SUMMARY:DKG Sachsen in Hochkirch: Mechtild und Wolfgang Opel: Buchvorstellung J.A. Miertschink
DESCRIPTION:Kulturhistorische Verein „Alter Fritz“. Museumsscheune Hochkirch bei Bautzen \nMechtild und Wolfgang Opel: Das außergewöhnliche Leben eines Gröditzers – Johann August Miertsching – Buchvorstellung \nhttp://www.alterfritz-hochkirch.de/Veranstaltungen.html
URL:https://www.dkg-online.de/event/dkg-sachsen-in-hochkirch-mechtild-und-wolfgang-opel-buchvorstellung-j-a-miertschink/
LOCATION:Kulturhistorischer Verein „Alter Fritz“\, Kulturhistorischer Verein "Alter Fritz" Hochkirch/Bukecy e. V.\, Hochkirch\, 02627
END:VEVENT
BEGIN:VEVENT
DTSTART;TZID=Europe/Berlin:20250508T190000
DTEND;TZID=Europe/Berlin:20250508T210000
DTSTAMP:20260423T134357
CREATED:20250210T115955Z
LAST-MODIFIED:20250211T141809Z
UID:7863-1746730800-1746738000@www.dkg-online.de
SUMMARY:DKG in Böblingen: Zwei Sommer in den Rockies: Vortrag mit Bildern\, Musik und zur Motivation
DESCRIPTION:Westkanada-Expertin und DKG-Mitglied Verena Schmidt: Vortrag mit Bildern\, Musik und wertvollen Impulsen zum Aufstehen\, Weitermachen und Handeln ist eine ideale »Motivationsdosis«. \nVHS in Böblingen\, Infos und Anmeldung unter www.vhs-aktuell.de \nDieser lebendige Vortrag erzählt was passiert\, wenn sich eine Reiseleiterin nach dem Tod ihres Partners gemeinsam mit ihrer Tochter zu einem intensiven Wanderführer-Projekt aufmacht\, um die wilde Gebirgslandschaft im Westen Kanadas in zwei Sommern zu erkunden.\nwww.starliteandwild.de/event/zwei-sommer-in-den-rockies-5
URL:https://www.dkg-online.de/event/dkg-baden-wuerttemberg-in-boeblingen-zwei-sommer-in-den-rockies-vortrag-mit-bildern-musik-und-zur-motivation/
END:VEVENT
BEGIN:VEVENT
DTSTART;TZID=Europe/Berlin:20250510T130000
DTEND;TZID=Europe/Berlin:20250510T180000
DTSTAMP:20260423T134357
CREATED:20250323T143030Z
LAST-MODIFIED:20250428T122259Z
UID:8059-1746882000-1746900000@www.dkg-online.de
SUMMARY:Canceled: Exklusiver Besuch im Atelier von Marie Madeleine Noiseux in Ettlingen
DESCRIPTION:Einblick in die Kunstwelt: Zu Gast im Atelier (Link) \nWer: Mitglieder der DKG und interessierte Gäste\nWann: Samstag\, den 10. Mai um 13:00\nWo: Schleinkoferstrasse 2A\, 1. Stock\, Ettlingen\nAnmeldung bis zum 26.April\, 2025: badenwuerttemberg@dkg-online.de \nEingebettet im Herzen von Ettlingen ist das Atelier der in Montreal geborenen Künstlerin Marie Madeleine Noiseux ein Ort der Kreativität\, an dem jeder Pinselstrich eine einzigartige Geschichte erzählt. Marie Madeleine studierte Bildende Kunst an der Universität von Québec. 1983 hatte sie als aufstrebende kanadische Künstlerin die Ehre\, ihre Werke im renommierten Grand Palais in Paris auszustellen – der Beginn einer außergewöhnlichen künstlerischen Laufbahn. Ihre Karriere führte sie nach Paris\, New York\, Washington und Montreal\, wo sie über 20 Jahre lang erfolgreich als Künstlerin arbeitete. Seit 2004 lebt und schafft sie in Karlsruhe. \nErleben Sie im Mai eine exklusive Führung durch ihr Atelier und tauchen Sie ein in die faszinierenden Geschichten hinter ihren beeindruckenden Werken. Kunstwerke in verschiedenen Formaten können während des Besuchs ebenfalls erworben werden. \nWir freuen uns darauf\, euch am 10. Mai dort zu begrüßen! \nDie Veranstaltung findet ab einer Mindestteilnehmerzahl von acht Personen statt. Melden Sie sich daher bitte frühzeitig an. \nBeste Grüße\,\nNorbert Schmitz\nDKG Regional Group Baden-Württemberg\nEmail: badenwuerttemberg@dkg-online.de\nwww.dkg-online.de \n  \n—————————————————————- \nA Glimpse into the Art World: A Visit to the Atelier (Link) \nWho: Members of the DKG and interested guests\nWhen: Saturday\, May 10 at 1:00 PM\nWhere: Schleinkoferstrasse 2A\, 1st Floor\, Ettlingen\nRegistration until April 26\, 2025: badenwuerttemberg@dkg-online.de \nNestled in the heart of Ettlingen\, the atelier of Montreal-born artist Marie Madeleine Noiseux is a sanctuary of creativity\, where each brushstroke tells a unique story. After studying Fine Arts at the University of Québec\, she was invited in 1983\, as a rising Canadian artist\, to exhibit her works at the prestigious Grand Palais in Paris – marking the beginning of an extraordinary artistic journey. Her career took her to Paris\, New York\, Washington\, and Montreal\, where she worked successfully as an artist for over 20 years. Since 2004\, she has been living and creating in Karlsruhe. \nJoin us for an exclusive guided tour of her atelier and immerse yourself in the fascinating stories behind her breathtaking works. Artwork in various formats can also be purchased during the visit. \nWe look forward to welcoming you on May 10 in Ettlingen! \nThe event requires a minimum of eight participants to take place. Please register early. \nBest regards\,\nNorbert Schmitz\nDKG Regional Group Baden-Württemberg\nEmail: badenwuerttemberg@dkg-online.de\nwww.dkg-online.de \n—————————————————————- \nUn regard sur le monde de l’art : Visite de l’atelier (Lien) \nQui: Membres de la DKG et invités intéressés\nQuand: Samedi 10 mai à 13:00\nOù: Schleinkoferstrasse 2A\, 1ère étage\, Ettlingen\nInscription avant le 26 avril 2025: badenwuerttemberg@dkg-online.de \nSitué au cœur d’Ettlingen\, l’atelier de l’artiste Marie Madeleine Noiseux\, née à Montréal\, est un véritable sanctuaire de créativité où chaque coup de pinceau raconte une histoire unique. Après ses études en Beaux-Arts à l’Université du Québec\, elle a eu l’honneur\, en 1983\, d’exposer ses œuvres au prestigieux Grand Palais à Paris\, marquant ainsi le début d’une carrière artistique exceptionnelle. Son parcours l’a menée à Paris\, New York\, Washington et Montréal\, où elle a exercé avec succès son art pendant plus de 20 ans. Depuis 2004\, elle vit et crée à Karlsruhe. \nParticipez à une visite guidée exclusive de son atelier et plongez dans les histoires fascinantes qui se cachent derrière ses œuvres impressionnantes. Des œuvres d’art dans différents formats peuvent également être achetées lors de la visite. \nNous nous réjouissons de vous accueillir le 10 mai à Ettlingen ! \nL’événement nécessite un minimum de huit participants pour avoir lieu. Merci de vous inscrire à l’avance. \nCordialement\,\nNorbert Schmitz\nDKG Regional Group Baden-Württemberg\nEmail: badenwuerttemberg@dkg-online.de\nwww.dkg-online.de
URL:https://www.dkg-online.de/event/exklusiver-besuch-im-atelier-von-marie-madeleine-noiseux-in-ettlingen/
LOCATION:Atelier Marie Madeleine Noiseux\, Schleinkoferstrasse 2A\, Ettlingen\, 76275\, Germany
END:VEVENT
BEGIN:VEVENT
DTSTART;TZID=Europe/Berlin:20250527T190000
DTEND;TZID=Europe/Berlin:20250527T210000
DTSTAMP:20260423T134357
CREATED:20250204T090941Z
LAST-MODIFIED:20250207T104517Z
UID:7812-1748372400-1748379600@www.dkg-online.de
SUMMARY:DKG Region Sachsen in Bautzen: Vortrag von M.+W. Opel: Johann August Miertsching - von Kleinwelka zum Polarmeer
DESCRIPTION:Mechthild und Wolfgang Opel: Vortrag – Von Kleinwelka zum Polarmeer: unterwegs auf den Spuren von Johann August Miertsching\, Missionar der Herrenhuter Gemeine im 19.Jahrhundert – aus der Oberlausitz in den Norden Labradors. \nVerein Altstadt Bautzen\nStadtbibliothek Bautzen\nSchlossstraße 10/12
URL:https://www.dkg-online.de/event/mechthild-und-wolfgang-opel-von-kleinwelka-zum-polarmeer/
LOCATION:Stadtbibliothek Bautzen\, Schloßstraße 10/12\, Bautzen\, 02625\, Germany
END:VEVENT
END:VCALENDAR